BEGIN:VCALENDAR
PRODID:NingEventWidget-v1
VERSION:2.0
METHOD:PUBLISH
BEGIN:VTIMEZONE
TZID:Europe/Paris
X-LIC-LOCATION:Europe/Paris
BEGIN:DAYLIGHT
TZOFFSETFROM:+0100
TZOFFSETTO:+0200
TZNAME:CEST
DTSTART:19700329T020000
RRULE:FREQ=YEARLY;BYMONTH=3;BYDAY=-1SU
END:DAYLIGHT
BEGIN:STANDARD
TZOFFSETFROM:+0200
TZOFFSETTO:+0100
TZNAME:CET
DTSTART:19701025T030000
RRULE:FREQ=YEARLY;BYMONTH=10;BYDAY=-1SU
END:STANDARD
END:VTIMEZONE
BEGIN:VEVENT
UID:2485226:Event:2741101
DTSTAMP:20260424T200534Z
SUMMARY:comment developper ses perceptions spirituelles Conférence
DESCRIPTION:Conférence de Christophe DACIER : Comment développer ses
  perceptions spirituelles.  Les mécanismes et les clés de ce dévelo
 ppement.  samedi 19 Novembre 15 h (fin vers 16h15) a l’UFSIPES,  15 
 rue Jean-Jacques Rousseau - 75001 PARIS\n\nPour plus d'information, al
 ler sur https://epanews.fr/events/comment-developper-ses-perceptions-s
 pirituelles-conf-rence
DTSTART;TZID=Europe/Paris:20161119T170000
DTEND;TZID=Europe/Paris:20161119T183000
CATEGORIES:75
LOCATION:UFSIPES
WEBSITE:http://www.usfipes.org/informations-frame.html
URL:http://www.usfipes.org/informations-frame.html
CONTACT:0612199141
ORGANIZER;CN="Christophe Dacier":https://epanews.fr/profile/Christophe
 Dacier
ATTACH;FMTTYPE="image/jpeg":http://storage.ning.com/topology/rest/1.0/
 file/get/1663621289?profile=original
ATTENDEE;ROLE=REQ-PARTICIPANT;PARTSTAT=ACCEPTED;RSVP=TRUE;CN="Christop
 he Dacier":https://epanews.fr/profile/ChristopheDacier
END:VEVENT
END:VCALENDAR
