BEGIN:VCALENDAR
PRODID:NingEventWidget-v1
VERSION:2.0
METHOD:PUBLISH
BEGIN:VTIMEZONE
TZID:Europe/Paris
X-LIC-LOCATION:Europe/Paris
BEGIN:DAYLIGHT
TZOFFSETFROM:+0100
TZOFFSETTO:+0200
TZNAME:CEST
DTSTART:19700329T020000
RRULE:FREQ=YEARLY;BYMONTH=3;BYDAY=-1SU
END:DAYLIGHT
BEGIN:STANDARD
TZOFFSETFROM:+0200
TZOFFSETTO:+0100
TZNAME:CET
DTSTART:19701025T030000
RRULE:FREQ=YEARLY;BYMONTH=10;BYDAY=-1SU
END:STANDARD
END:VTIMEZONE
BEGIN:VEVENT
UID:2485226:Event:680223
DTSTAMP:20260422T030732Z
SUMMARY:Comment cultiver la paix
DESCRIPTION:3 confÃ©rences organisÃ©es par le centre bouddhiste de PÃ©
 bÃ©es (32130) Shelong Yiga Choeling\nEt animÃ©es par le VÃ©nÃ©rableÂ G
 hÃ©shÃ©Â Tulku Ahbay RinpochÃ©Â \n\n\nDu thÃ© chaud sera Â servi sur p
 lace.Â \nAdresse: la serre du bas 32130 PÃ©bÃ©es (entre Samatan 32130 
 et Rieumes 31370)\nTarifÂ :  AdhÃ©sion provisoire: 1,5 â‚¬ ConfÃ©rence
  : Â  Â  Â  Â  Â  Â 6 Â Â Â â‚¬ Repas tibÃ©tain: Â  Â  Â  13 Â  Â â‚¬Â
  (sur rÃ©servation)Â \n\nhttp://shelong-yiga-choeling.over-blog.com/\n
 \nPour plus d'information, aller sur https://epanews.fr/events/comment
 -cultivez-la-paix
DTSTART;TZID=Europe/Paris:20120217T180000
DTEND;TZID=Europe/Paris:20120219T230000
CATEGORIES:32
LOCATION:PÃ©bÃ©es - Samatan
WEBSITE:http://shelong-yiga-choeling.over-blog.com/
URL:http://shelong-yiga-choeling.over-blog.com/
CONTACT:05 62 62 53 14
ORGANIZER;CN="NadÃ¨ge TrÃ©buchet":https://epanews.fr/profile/NadegeTre
 buchet
ATTACH;FMTTYPE="image/jpeg":http://storage.ning.com/topology/rest/1.0/
 file/get/1662550698?profile=original
ATTENDEE;ROLE=REQ-PARTICIPANT;PARTSTAT=ACCEPTED;RSVP=TRUE;CN="Ania Dri
 ollet":https://epanews.fr/profile/Driollet
ATTENDEE;ROLE=REQ-PARTICIPANT;PARTSTAT=ACCEPTED;RSVP=TRUE;CN="Manuella
  Guchet":https://epanews.fr/profile/Guchet
ATTENDEE;ROLE=REQ-PARTICIPANT;PARTSTAT=ACCEPTED;RSVP=TRUE;CN=brigitte:
 https://epanews.fr/profile/brigittebourdon
ATTENDEE;ROLE=REQ-PARTICIPANT;PARTSTAT=ACCEPTED;RSVP=TRUE;CN="NadÃ¨ge 
 TrÃ©buchet":https://epanews.fr/profile/NadegeTrebuchet
END:VEVENT
END:VCALENDAR
