BEGIN:VCALENDAR
PRODID:NingEventWidget-v1
VERSION:2.0
METHOD:PUBLISH
BEGIN:VTIMEZONE
TZID:Europe/Paris
X-LIC-LOCATION:Europe/Paris
BEGIN:DAYLIGHT
TZOFFSETFROM:+0100
TZOFFSETTO:+0200
TZNAME:CEST
DTSTART:19700329T020000
RRULE:FREQ=YEARLY;BYMONTH=3;BYDAY=-1SU
END:DAYLIGHT
BEGIN:STANDARD
TZOFFSETFROM:+0200
TZOFFSETTO:+0100
TZNAME:CET
DTSTART:19701025T030000
RRULE:FREQ=YEARLY;BYMONTH=10;BYDAY=-1SU
END:STANDARD
END:VTIMEZONE
BEGIN:VEVENT
UID:2485226:Event:817761
DTSTAMP:20260420T224204Z
SUMMARY:Comment crÃ©er son Arbre GÃ©nÃ©alogique ? Votre PrÃ©nom ????
DESCRIPTION:Â \nâ˜ž â˜ž Atelier\nPar Danielle Rovira (PsychogÃ©nÃ©alog
 iste et Praticienne Indigo)\net par Christine Moral ( AstrogÃ©nÃ©alogi
 ste)\nÃ¨Comment crÃ©erÂ  son Arbre GÃ©nÃ©alogique?\nÂ \nC'est unÂ  out
 il fabuleux pour vous aider Ã  faire de nouveaux liens\nÂ et Ã  rÃ©flÃ
 ©chir sur\nÂ dâ€™Ã©ventuelles incohÃ©rences des Ã©vÃ¨nements\net des r
 Ã©cits qui circulent dans la famille.\nÂ \nLes PrÃ©noms : Quelle histo
 ire !\nVos PrÃ©noms : Pourquoi ?\nPourquoi dÃ©coder un prÃ©nom ?\nLe p
 rÃ©nom est un marqueur de notre identitÃ©\nune passerelle vers nos rac
 ines et parfois encore\nun voyage dans et par \"la connaissance\" .\n(
 Lettres HÃ©braÃ¯ques, Tarot , Mythologie etc....)\nIl exprime un progr
 amme, une mission,\nun dÃ©sir inconscient.\nÂ \nÂ L'inceste gÃ©ographi
 que\nC'est une forme de rÃ©gressionÂ \nconsistant Ã  systÃ©matiquement
  Â \nÃ  revenir au pays et mÃªme dans la maison\ndes parents, de lâ€™e
 nfance,\nÂ comme dans une sorte de giron maternel,\nÂ et ce n'est pas 
 sans risques,\ndu moins pour certaines personnes\nqui paraissaient le 
 payer plus ou moins\ncher selon les cas.\nDes rÃ©ponses Ã  toutes vos 
 questions!\nConseils personnalisÃ©s !\nTarifs : 4 â‚¬ pour les adhÃ©re
 nts, 6 â‚¬ pour les visiteurs :\nInscriptions sur place !\nrenseigneme
 nts : Stellanicolette@live.frÂ Â Â  06 07 65 30 84\n\nÂ \n\nPour plus 
 d'information, aller sur https://epanews.fr/events/comment-cr-er-son-a
 rbre-g-n-alogique-votre-pr-nom-pourqu
DTSTART;TZID=Europe/Paris:20120525T201500
DTEND;TZID=Europe/Paris:20120525T223000
CATEGORIES:34500
LOCATION:HÃ´tel IBIS  BEZIERS
WEBSITE:http://stellafemina.over.blog.com
URL:http://stellafemina.over.blog.com
CONTACT:0607653084
ORGANIZER;CN="stella nicolette":https://epanews.fr/profile/stellanicol
 ette
ATTACH;FMTTYPE="image/jpeg":http://storage.ning.com/topology/rest/1.0/
 file/get/1662606892?profile=original
ATTENDEE;ROLE=REQ-PARTICIPANT;PARTSTAT=ACCEPTED;RSVP=TRUE;CN="stella n
 icolette":https://epanews.fr/profile/stellanicolette
END:VEVENT
END:VCALENDAR
