BEGIN:VCALENDAR
PRODID:NingEventWidget-v1
VERSION:2.0
METHOD:PUBLISH
BEGIN:VTIMEZONE
TZID:Europe/Paris
X-LIC-LOCATION:Europe/Paris
BEGIN:DAYLIGHT
TZOFFSETFROM:+0100
TZOFFSETTO:+0200
TZNAME:CEST
DTSTART:19700329T020000
RRULE:FREQ=YEARLY;BYMONTH=3;BYDAY=-1SU
END:DAYLIGHT
BEGIN:STANDARD
TZOFFSETFROM:+0200
TZOFFSETTO:+0100
TZNAME:CET
DTSTART:19701025T030000
RRULE:FREQ=YEARLY;BYMONTH=10;BYDAY=-1SU
END:STANDARD
END:VTIMEZONE
BEGIN:VEVENT
UID:2485226:Event:29372
DTSTAMP:20260420T163212Z
SUMMARY:COMMENT ATTIRER ET CONSTRUIRE DES RELATIONS HARMONIEUSES
DESCRIPTION:Ce stage de deux jours en week-end a pour objectif de vous
  montrer comment attirer des partenaires personnels ou professionnels 
 avec la loi d'attraction et transformer vos relations existantes pour 
 co-créer dans la joie et l'harmonie. Le stage \"Comment réussir avec
  la loi d'attraction\" est pré requis.\nPour plus d'infos, cliquer ic
 i\nPrix spécial pour les membres de ce réseau :\n200 € au lieu de 
 220 € pour inscription avant le 1er mai 2010.\n\nPour plus d'informa
 tion, aller sur https://epanews.fr/events/comment-attirer-et-construir
 e
DTSTART;TZID=Europe/Paris:20100515T000000
DTEND;TZID=Europe/Paris:20100516T235900
CATEGORIES:94
LOCATION:Centre ARKANCIEL à Vincennes
WEBSITE:http://www.noelwan.net
URL:http://www.noelwan.net
CONTACT:0684309625
ORGANIZER;CN="Noel Wan":https://epanews.fr/profile/NoelWan
ATTACH;FMTTYPE="image/jpeg":http://storage.ning.com/topology/rest/1.0/
 file/get/1662284919?profile=original
ATTENDEE;ROLE=REQ-PARTICIPANT;PARTSTAT=ACCEPTED;RSVP=TRUE;CN="Noel Wan
 ":https://epanews.fr/profile/NoelWan
END:VEVENT
END:VCALENDAR
