BEGIN:VCALENDAR
PRODID:NingEventWidget-v1
VERSION:2.0
METHOD:PUBLISH
BEGIN:VTIMEZONE
TZID:Europe/Paris
X-LIC-LOCATION:Europe/Paris
BEGIN:DAYLIGHT
TZOFFSETFROM:+0100
TZOFFSETTO:+0200
TZNAME:CEST
DTSTART:19700329T020000
RRULE:FREQ=YEARLY;BYMONTH=3;BYDAY=-1SU
END:DAYLIGHT
BEGIN:STANDARD
TZOFFSETFROM:+0200
TZOFFSETTO:+0100
TZNAME:CET
DTSTART:19701025T030000
RRULE:FREQ=YEARLY;BYMONTH=10;BYDAY=-1SU
END:STANDARD
END:VTIMEZONE
BEGIN:VEVENT
UID:2485226:Event:2932723
DTSTAMP:20260424T225035Z
SUMMARY:combien es-tu prêt à recevoir?
DESCRIPTION:Qu’est-ce que « recevoir » ?Est-ce que vous savez rece
 voir un cadeau ? un compliment ? de l’argent ? les cadeaux de la vie
  ?Est-ce que vous vous savez vous recevoir ?\nC’est le thème de la 
 soirée pour cet atelier-conférence.Vous feriez-vous ce cadeau à 40 
 €?\nVous repartirez avec des éléments qui vous permettront de rece
 voir PLUS au quotidien et de créer PLUS....\nA développer dans plein
  de circonstances: le monde du travail, par exemple....la santé, la j
 eunesse....\net se faciliter la vie...\n\nPour plus d'information, all
 er sur https://epanews.fr/events/combien-es-tu-pr-t-recevoir
DTSTART;TZID=Europe/Paris:20180215T190000
DTEND;TZID=Europe/Paris:20180215T220000
CATEGORIES:04
LOCATION:Cabinet de Relaxation
WEBSITE:http://www.corpsconscience.fr
URL:http://www.corpsconscience.fr
CONTACT:0624724449
ORGANIZER:
ATTACH;FMTTYPE="image/jpeg":http://storage.ning.com/topology/rest/1.0/
 file/get/1663718694?profile=original
ATTENDEE;ROLE=REQ-PARTICIPANT;PARTSTAT=ACCEPTED;RSVP=TRUE;CN="MJ Mauri
 ce":https://epanews.fr/profile/corpsconscience
END:VEVENT
END:VCALENDAR
