BEGIN:VCALENDAR
PRODID:NingEventWidget-v1
VERSION:2.0
METHOD:PUBLISH
BEGIN:VTIMEZONE
TZID:Europe/Paris
X-LIC-LOCATION:Europe/Paris
BEGIN:DAYLIGHT
TZOFFSETFROM:+0100
TZOFFSETTO:+0200
TZNAME:CEST
DTSTART:19700329T020000
RRULE:FREQ=YEARLY;BYMONTH=3;BYDAY=-1SU
END:DAYLIGHT
BEGIN:STANDARD
TZOFFSETFROM:+0200
TZOFFSETTO:+0100
TZNAME:CET
DTSTART:19701025T030000
RRULE:FREQ=YEARLY;BYMONTH=10;BYDAY=-1SU
END:STANDARD
END:VTIMEZONE
BEGIN:VEVENT
UID:2485226:Event:2255598
DTSTAMP:20260421T130929Z
SUMMARY:Colloque \"Les complémentarités entre médecines modernes et
  médecines douces \" avec le Professeur Henri Joyeux
DESCRIPTION:« Les complémentarités entre MEDECINES MODERNES\n et 
 MEDECINES DOUCES »\n\nCOLLOQUE avec le Professeur Henri Joyeux\n\net
  le Docteur Bérengère Arnal \n\n\n\n- De l’Apiculteur à l’Apith
 érapeute : les produits de la ruche pour la santé,\n\n- Cancers : 
 prévention et support thérapeutique.\n\n\nLe professeur Henri Joyeux
  est chirurgien cancérologue et enseigne à la Faculté de Médecine 
 de Montpellier. Il est également auteur et conférencier. Parmi ses n
 ombreuses publications, « Changez d’alimentation » s’est vendu
  à plus de 300 000 exemplaires.\n\nLe docteur Bérengère Arnal est 
 gynécologue-obstétricien à Bordeaux et ex-responsable du DU de phyt
 othérapie de la faculté de médecine de Paris XIII. Elle est Présid
 ente-Fondatrice de l’ Association « au Sein des Femmes » et  a
 uteure de plusieurs ouvrages dont « Syndrome prémenstruel : les so
 lutions naturelles », « « Cancer du sein » et en partenariat a
 vec le Professeur H. Joyeux « Comment enrayer l’épidémie des can
 cers du sein et des récidives ? »\n\n \n\nTarif  :  40€ (gran
 d public et professionnel de santé) et\n\n30€ pour les membres de l
 ’Association « Au Sein des Femmes »\n\n \n\nLieu : Domaine du 
 Haut Carré (Salle Agora) – 43 rue Pierre Noailles à Talence\n\nPro
 gramme et inscriptions via le site http://www.atoutcom.com/joyeux2015/
 \n\n\n\nPour plus d'information, aller sur https://epanews.fr/events/c
 olloque-les-compl-mentarit-s-entre-m-decines-modernes-et-m
DTSTART;TZID=Europe/Paris:20150417T080000
DTEND;TZID=Europe/Paris:20150417T183000
CATEGORIES:33, 47, 24, 40, 64
LOCATION:Domaine du Haut Carré (Salle Agora)
WEBSITE:http://www.atoutcom.com/joyeux2015/
URL:http://www.atoutcom.com/joyeux2015/
CONTACT:
ORGANIZER;CN="Librairie PEGASE":https://epanews.fr/profile/LibrairiePE
 GASE
ATTACH;FMTTYPE="image/jpeg":http://storage.ning.com/topology/rest/1.0/
 file/get/1663344079?profile=original
ATTENDEE;ROLE=REQ-PARTICIPANT;PARTSTAT=ACCEPTED;RSVP=TRUE;CN="Librairi
 e PEGASE":https://epanews.fr/profile/LibrairiePEGASE
END:VEVENT
END:VCALENDAR
