BEGIN:VCALENDAR
PRODID:NingEventWidget-v1
VERSION:2.0
METHOD:PUBLISH
BEGIN:VTIMEZONE
TZID:Europe/Paris
X-LIC-LOCATION:Europe/Paris
BEGIN:DAYLIGHT
TZOFFSETFROM:+0100
TZOFFSETTO:+0200
TZNAME:CEST
DTSTART:19700329T020000
RRULE:FREQ=YEARLY;BYMONTH=3;BYDAY=-1SU
END:DAYLIGHT
BEGIN:STANDARD
TZOFFSETFROM:+0200
TZOFFSETTO:+0100
TZNAME:CET
DTSTART:19701025T030000
RRULE:FREQ=YEARLY;BYMONTH=10;BYDAY=-1SU
END:STANDARD
END:VTIMEZONE
BEGIN:VEVENT
UID:2485226:Event:2901037
DTSTAMP:20260421T185901Z
SUMMARY:Colloque: Le Graal, une clÃ© pour notre Temps?
DESCRIPTION:Le Fonds Rose-Croix vous convie Ã  une rÃ©flexion sur le t
 hÃ¨me du Graal et sa manifestation actuelle, via 3 regards : la vision
  dâ€™un journaliste explorant le monde du cinÃ©ma, lâ€™expÃ©rience dâ€
 ™un rÃ©alisateur au travers de ses documentaires, et le vÃ©cu dâ€™un c
 hercheur pour lequel ce mythe est son fil rouge. PROGRAMME DÃ‰TAILLÃ‰ 
 13h00â€”13h30 Accueil, vente des tickets 13h40â€”14h30 LE GRAAL AU CIN
 Ã‰MA : AVATARS Dâ€™UNE QUÃŠTE DÃ‰SENCHANTÃ‰E â€¦ StÃ©phane Grobost 14h
 30â€”14h40 Pause & vente de livres et dÃ©dicaces 14h40â€”15h30 UNE REN
 CONTRE FORTUITE AVEC LE GRAAL Georges Combe 15h30â€”15h45 ... Pause & 
 vente de livres et dÃ©dicaces 15h45â€”16h35 LE GRAAL : FORCE SPIRITUEL
 LE DE METAMORPHOSE DE Lâ€™HOMME ET DU MONDE Jean Poyard 16h35â€”16h50 
 Pause & vente de livres et dÃ©dicaces 16h50â€”17h20 TABLE RONDE, DÃ‰BA
 TS en prÃ©sence de tous les intervenants 17h20 ClÃ´ture de la journÃ©e
  Infos et RÃ©servations ICI: http://www.fonds-rose-croix.org/evenement
 s/\n\nPour plus d'information, aller sur https://epanews.fr/events/col
 loque-le-graal-une-cl-pour-notre-temps
DTSTART;TZID=Europe/Paris:20171209T130000
DTEND;TZID=Europe/Paris:20171209T173000
CATEGORIES:75
LOCATION:Forum 104
WEBSITE:http://fonds-rose-croix.org
URL:http://fonds-rose-croix.org
CONTACT:0661320412
ORGANIZER;CN=sylvanus:https://epanews.fr/profile/sylvanus
ATTACH;FMTTYPE="image/jpeg":http://storage.ning.com/topology/rest/1.0/
 file/get/1663702239?profile=original
ATTENDEE;ROLE=REQ-PARTICIPANT;PARTSTAT=ACCEPTED;RSVP=TRUE;CN=sylvanus:
 https://epanews.fr/profile/sylvanus
END:VEVENT
END:VCALENDAR
