BEGIN:VCALENDAR
PRODID:NingEventWidget-v1
VERSION:2.0
METHOD:PUBLISH
BEGIN:VTIMEZONE
TZID:Europe/Paris
X-LIC-LOCATION:Europe/Paris
BEGIN:DAYLIGHT
TZOFFSETFROM:+0100
TZOFFSETTO:+0200
TZNAME:CEST
DTSTART:19700329T020000
RRULE:FREQ=YEARLY;BYMONTH=3;BYDAY=-1SU
END:DAYLIGHT
BEGIN:STANDARD
TZOFFSETFROM:+0200
TZOFFSETTO:+0100
TZNAME:CET
DTSTART:19701025T030000
RRULE:FREQ=YEARLY;BYMONTH=10;BYDAY=-1SU
END:STANDARD
END:VTIMEZONE
BEGIN:VEVENT
UID:2485226:Event:2318379
DTSTAMP:20260422T202751Z
SUMMARY:coeur framboise
DESCRIPTION:atelier rencontres, caresses et tendresse\ndans l'ouvertur
 e de coeur et le respect\nprix: 25 euros\nlimité à 26 personnes, en 
 parité\nrenseignements: 0637004728\nmichelle.itic@gmail.com\n\nPour p
 lus d'information, aller sur https://epanews.fr/events/coeur-framboise
DTSTART;TZID=Europe/Paris:20150530T200000
DTEND;TZID=Europe/Paris:20150530T230000
CATEGORIES:75
LOCATION:paris 11e
WEBSITE:http://aquacoeur.fr
URL:http://aquacoeur.fr
CONTACT:0637004728
ORGANIZER;CN=Michelle:https://epanews.fr/profile/MichelleItic
ATTACH;FMTTYPE="image/jpeg":http://storage.ning.com/topology/rest/1.0/
 file/get/1663391120?profile=original
ATTENDEE;ROLE=REQ-PARTICIPANT;PARTSTAT=ACCEPTED;RSVP=TRUE;CN=Michelle:
 https://epanews.fr/profile/MichelleItic
END:VEVENT
END:VCALENDAR
