BEGIN:VCALENDAR
PRODID:NingEventWidget-v1
VERSION:2.0
METHOD:PUBLISH
BEGIN:VTIMEZONE
TZID:Europe/Paris
X-LIC-LOCATION:Europe/Paris
BEGIN:DAYLIGHT
TZOFFSETFROM:+0100
TZOFFSETTO:+0200
TZNAME:CEST
DTSTART:19700329T020000
RRULE:FREQ=YEARLY;BYMONTH=3;BYDAY=-1SU
END:DAYLIGHT
BEGIN:STANDARD
TZOFFSETFROM:+0200
TZOFFSETTO:+0100
TZNAME:CET
DTSTART:19701025T030000
RRULE:FREQ=YEARLY;BYMONTH=10;BYDAY=-1SU
END:STANDARD
END:VTIMEZONE
BEGIN:VEVENT
UID:2485226:Event:1625029
DTSTAMP:20260423T100040Z
SUMMARY:coeur de sagess
DESCRIPTION:Tous nos problèmes trouvent leur origine dans la concep
 tion limitée et erronée que nous avons de nous-mêmes. Développe
 r la compréhension de notre vraie nature est donc profondément lib
 érateur. Au cours de cette journée, nous expérimenterons l’appr
 ofondissement de la sagesse qui reconnait notre vraie nature, perme
 ttant ainsi de trancher la racine de notre souffrance et d'atteindre 
 un bonheur durable. Les méditations proposées seront simples et pra
 tiques et des conseils enrichis d’exemples seront donnés pour inté
 grer cette sagesse au quotidien.\n\nPour plus d'information, aller sur
  https://epanews.fr/events/coeur-de-sagess
DTSTART;TZID=Europe/Paris:20131117T100000
DTEND;TZID=Europe/Paris:20131117T170000
CATEGORIES:75
LOCATION:Paris, Forum 104
WEBSITE:http://www.meditation-paris.org/evenements/evenements#le-coeur
 -de-la-sagesse-bouddhiste
URL:http://www.meditation-paris.org/evenements/evenements#le-coeur-de-
 la-sagesse-bouddhiste
CONTACT:
ORGANIZER:Guèn Lhamo
ATTACH;FMTTYPE="image/jpeg":http://storage.ning.com/topology/rest/1.0/
 file/get/1662966741?profile=original
ATTENDEE;ROLE=REQ-PARTICIPANT;PARTSTAT=ACCEPTED;RSVP=TRUE;CN=cfuente:h
 ttps://epanews.fr/profile/cfuente
END:VEVENT
END:VCALENDAR
