BEGIN:VCALENDAR
PRODID:NingEventWidget-v1
VERSION:2.0
METHOD:PUBLISH
BEGIN:VTIMEZONE
TZID:Europe/Paris
X-LIC-LOCATION:Europe/Paris
BEGIN:DAYLIGHT
TZOFFSETFROM:+0100
TZOFFSETTO:+0200
TZNAME:CEST
DTSTART:19700329T020000
RRULE:FREQ=YEARLY;BYMONTH=3;BYDAY=-1SU
END:DAYLIGHT
BEGIN:STANDARD
TZOFFSETFROM:+0200
TZOFFSETTO:+0100
TZNAME:CET
DTSTART:19701025T030000
RRULE:FREQ=YEARLY;BYMONTH=10;BYDAY=-1SU
END:STANDARD
END:VTIMEZONE
BEGIN:VEVENT
UID:2485226:Event:2800695
DTSTAMP:20260422T190825Z
SUMMARY:Coaching de réussite
DESCRIPTION:Narbonne - Coaching de réussite (sur 8 semaines) par Marl
 ène Lopez et Brigitte Boeyens - \nTous les deux mardis de 18h30 à 2
 0h00 à partir du 14 mars 2017 \n\nUn accompagnement vers la réussit
 e, qu'elle soit personnelle ou professionnelle\n- vous aurez une visio
 n claire de vos rêves et passions,\n- découvrez des talents et quali
 tés insoupçonnés\n- fini avec le doute et le manque de confiance en
  vous\n- vous définirez votre objectif de vie concret\n\nNous vous ai
 derons à vous libérer de vos résistances, vos peurs et vos mémoire
 s et saboteurs qui vous empêchent de réussir et d'être une personne
  épanouie.\n\nNous vous donnerons les clés pour enfin atteindre vos 
 objectifs, personnels et/ou professionnels.\n\nDans le cadre professio
 nnel, vous aurez les clés du marketing énergétique afin de :\n- dé
 velopper votre activité\n- accroître vos revenus\n- avoir une commun
 ication efficace\n\nCe coaching se déroulera en groupe de 6 personnes
  maximum, à raison de 1h30 par session. Huit sessions, tous les deux 
 mardis à 18h30, à partir du 14 mars 2017.\n\nPrix du coaching pour 8
  sessions : 580€\n\nBrigitte Boeyens, coach de vie, thérapeute intu
 itive et\nMarlène Lopez, énergéticienne, praticienne en PNL, médiu
 m canal vous accompagneront avec bienveillance afin de transformer os 
 rêves en objectifs réalisables.\n\nInfos et réservations :\nMarlèn
 e Lopez 06.19.94.71.38\nBrigitte Boeyens 06.25.68.40.18\n\nLieu :\nL'a
 rc en ciel du partage\n1 rue garancière 11100 narbonne\nwww.larcencie
 ldupartage.org\n\n\n\n\n\n\nPour plus d'information, aller sur https:/
 /epanews.fr/events/coaching-de-r-ussite
DTSTART;TZID=Europe/Paris:20170314T183000
DTEND;TZID=Europe/Paris:20170314T200000
CATEGORIES:11
LOCATION:L'Arc en ciel du partage
WEBSITE:http://www.larcencieldupartage.org
URL:http://www.larcencieldupartage.org
CONTACT:0623013596
ORGANIZER;CN="L'arc en ciel du partage":https://epanews.fr/profile/Lar
 cencieldupartage
ATTACH;FMTTYPE="image/jpeg":http://storage.ning.com/topology/rest/1.0/
 file/get/1663648210?profile=original
ATTENDEE;ROLE=REQ-PARTICIPANT;PARTSTAT=ACCEPTED;RSVP=TRUE;CN="L'arc en
  ciel du partage":https://epanews.fr/profile/Larcencieldupartage
END:VEVENT
END:VCALENDAR
