BEGIN:VCALENDAR
PRODID:NingEventWidget-v1
VERSION:2.0
METHOD:PUBLISH
BEGIN:VTIMEZONE
TZID:Europe/Paris
X-LIC-LOCATION:Europe/Paris
BEGIN:DAYLIGHT
TZOFFSETFROM:+0100
TZOFFSETTO:+0200
TZNAME:CEST
DTSTART:19700329T020000
RRULE:FREQ=YEARLY;BYMONTH=3;BYDAY=-1SU
END:DAYLIGHT
BEGIN:STANDARD
TZOFFSETFROM:+0200
TZOFFSETTO:+0100
TZNAME:CET
DTSTART:19701025T030000
RRULE:FREQ=YEARLY;BYMONTH=10;BYDAY=-1SU
END:STANDARD
END:VTIMEZONE
BEGIN:VEVENT
UID:2485226:Event:2800692
DTSTAMP:20260422T121804Z
SUMMARY:Coaching de réussite : Présentation
DESCRIPTION:Narbonne - Présentation du coaching de réussite par Marl
 ène Lopez et Brigitte Boeyens - \nJeudi 2 mars 2017 à 18h30\nMarlè
 ne et Brigitte vous présenteront le coaching de réussite.\nTout ce q
 ue cela peut vous amener en personnel comme en professionnel.\n\nInfos
  et réservations :\nMarlène Lopez 06.19.94.71.38\nBrigitte Boeyens 0
 6.25.68.40.18\n\nLieu :\nL'arc en ciel du partage\n1 rue garancière 1
 1100 Narbonne\nwww.larcencieldupartage.org\n\n\n\n\nPour plus d'inform
 ation, aller sur https://epanews.fr/events/coaching-de-r-ussite-pr-sen
 tation
DTSTART;TZID=Europe/Paris:20170302T183000
DTEND;TZID=Europe/Paris:20170302T200000
CATEGORIES:11
LOCATION:L'Arc en ciel du partage
WEBSITE:http://www.larcencieldupartage.org
URL:http://www.larcencieldupartage.org
CONTACT:0623013596
ORGANIZER;CN="L'arc en ciel du partage":https://epanews.fr/profile/Lar
 cencieldupartage
ATTACH;FMTTYPE="image/jpeg":http://storage.ning.com/topology/rest/1.0/
 file/get/1663647627?profile=original
ATTENDEE;ROLE=REQ-PARTICIPANT;PARTSTAT=ACCEPTED;RSVP=TRUE;CN="L'arc en
  ciel du partage":https://epanews.fr/profile/Larcencieldupartage
END:VEVENT
END:VCALENDAR
