BEGIN:VCALENDAR
PRODID:NingEventWidget-v1
VERSION:2.0
METHOD:PUBLISH
BEGIN:VTIMEZONE
TZID:Europe/Paris
X-LIC-LOCATION:Europe/Paris
BEGIN:DAYLIGHT
TZOFFSETFROM:+0100
TZOFFSETTO:+0200
TZNAME:CEST
DTSTART:19700329T020000
RRULE:FREQ=YEARLY;BYMONTH=3;BYDAY=-1SU
END:DAYLIGHT
BEGIN:STANDARD
TZOFFSETFROM:+0200
TZOFFSETTO:+0100
TZNAME:CET
DTSTART:19701025T030000
RRULE:FREQ=YEARLY;BYMONTH=10;BYDAY=-1SU
END:STANDARD
END:VTIMEZONE
BEGIN:VEVENT
UID:2485226:Event:30907
DTSTAMP:20260420T145236Z
SUMMARY:coaching créatif/intuitif
DESCRIPTION:Venez vous rencontrer et poser vos objectifs, pas à pas v
 ers là où vous voulez aller.\n\nVous vous surprendrez, je vous aider
 ai à vous révéler dans vos atouts (à découvrir ou à confirmer )\
 n\nvous passerez un bon moment d'avancées et repartirez en + grande a
 ssurance de vous\n\nParticipation: 15€\n\nPour plus d'information, a
 ller sur https://epanews.fr/events/coaching-creatifintuitif
DTSTART;TZID=Europe/Paris:20100220T143000
DTEND;TZID=Europe/Paris:20100220T173000
CATEGORIES:13
LOCATION:Parc Mure BIO+
WEBSITE:
URL:
CONTACT:06.77.80.80.09
ORGANIZER;CN="Marilou coach d 'éveil énergie":https://epanews.fr/pro
 file/Marilou
ATTACH;FMTTYPE="image/jpeg":http://storage.ning.com/topology/rest/1.0/
 file/get/1662288803?profile=original
ATTENDEE;ROLE=REQ-PARTICIPANT;PARTSTAT=ACCEPTED;RSVP=TRUE;CN=Sylvie:ht
 tps://epanews.fr/profile/eternalsunshine
ATTENDEE;ROLE=REQ-PARTICIPANT;PARTSTAT=ACCEPTED;RSVP=TRUE;CN="Marilou 
 coach d 'éveil énergie":https://epanews.fr/profile/Marilou
END:VEVENT
END:VCALENDAR
