BEGIN:VCALENDAR
PRODID:NingEventWidget-v1
VERSION:2.0
METHOD:PUBLISH
BEGIN:VTIMEZONE
TZID:Europe/Paris
X-LIC-LOCATION:Europe/Paris
BEGIN:DAYLIGHT
TZOFFSETFROM:+0100
TZOFFSETTO:+0200
TZNAME:CEST
DTSTART:19700329T020000
RRULE:FREQ=YEARLY;BYMONTH=3;BYDAY=-1SU
END:DAYLIGHT
BEGIN:STANDARD
TZOFFSETFROM:+0200
TZOFFSETTO:+0100
TZNAME:CET
DTSTART:19701025T030000
RRULE:FREQ=YEARLY;BYMONTH=10;BYDAY=-1SU
END:STANDARD
END:VTIMEZONE
BEGIN:VEVENT
UID:2485226:Event:2246420
DTSTAMP:20260423T203150Z
SUMMARY:Classe de Bars d'Access Consciousness
DESCRIPTION:Apprendre Ã  donner une sÃ©ance de Bars, c'est apprendre Ã
   mettre les doigts sur certains points de la tÃªte pour libÃ©rer les 
 tensions gÃ©nÃ©rÃ©es par la diffÃ©rence de potentiel entre les croyanc
 es, jugements, points de vue positifs et nÃ©gatifs.\nCela apporte plus
  neutralitÃ©, plus de choix et plus de possibilitÃ©s sur des aspects a
 ussi importants que le corps, l'argent, la sexualitÃ©, le temps, la cr
 Ã©ativitÃ© et d'autres encore, chaque point Ã©tant dÃ©diÃ© Ã  un de ce
 s aspects.\nDans cette journÃ©e de formation trÃ¨s pratique, vous appr
 enez Ã  donner une sÃ©ance de Bars, ainsi qu'Ã  poser des questions qu
 i libÃ¨rent la pensÃ©e pour sortir des rÃ©ponses toutes faites, habitu
 elles, inconscientes.\nOuvrir les portes, donner de l'air...Evoluer...
 \nA utiliser dans le milieu familial, amical, social et professionnel,
  sans modÃ©rations en ces temps de bouleversements...\nUn certificat d
 e praticien vous dÃ©livrÃ© en fin de journÃ©e ainsi qu'un manuel et de
 s cartes de travail.\nApportez vÃªtements souples, chauds, couvertures
 , coussins et de quoi manger sur place.\nLe prix: 240 euros la premiÃ¨
 re fois, 120 euros les fois suivantes et pour les adolescents entre 16
  et 18 ans. C'est gratuit jusqu'Ã  15 ans. (c'est facile Ã  apprendre!
 !)\n\nPour plus d'information, aller sur https://epanews.fr/events/cla
 sse-de-bars-d-access-consciousness
DTSTART;TZID=Europe/Paris:20150315T093000
DTEND;TZID=Europe/Paris:20150315T183000
CATEGORIES:04, 05, 26, 13
LOCATION:SISTERON
WEBSITE:http://corpsconscience.fr/habars
URL:http://corpsconscience.fr/habars
CONTACT:0624724449
ORGANIZER;CN="MJ Maurice":https://epanews.fr/profile/corpsconscience
ATTACH;FMTTYPE="image/jpeg":http://storage.ning.com/topology/rest/1.0/
 file/get/1663339333?profile=original
ATTENDEE;ROLE=REQ-PARTICIPANT;PARTSTAT=ACCEPTED;RSVP=TRUE;CN="MJ Mauri
 ce":https://epanews.fr/profile/corpsconscience
END:VEVENT
END:VCALENDAR
