BEGIN:VCALENDAR
PRODID:NingEventWidget-v1
VERSION:2.0
METHOD:PUBLISH
BEGIN:VTIMEZONE
TZID:Europe/Paris
X-LIC-LOCATION:Europe/Paris
BEGIN:DAYLIGHT
TZOFFSETFROM:+0100
TZOFFSETTO:+0200
TZNAME:CEST
DTSTART:19700329T020000
RRULE:FREQ=YEARLY;BYMONTH=3;BYDAY=-1SU
END:DAYLIGHT
BEGIN:STANDARD
TZOFFSETFROM:+0200
TZOFFSETTO:+0100
TZNAME:CET
DTSTART:19701025T030000
RRULE:FREQ=YEARLY;BYMONTH=10;BYDAY=-1SU
END:STANDARD
END:VTIMEZONE
BEGIN:VEVENT
UID:2485226:Event:1767782
DTSTAMP:20260421T155131Z
SUMMARY:Clarifier sa vision : conférence expérientielle
DESCRIPTION:\nCLARIFIER SA VISION pour avancer pas à pas vers son bon
 heur\nConférence expérientielle à 19h30 en Avignon\nIl est fondamen
 tal de retrouver sa vision et ses rêves, pour retrouver le sens que n
 ous donnons à notre vie et l'orientation vers laquelle nous souhaiton
 s aller. Cette conférence vous propose de vivre une expérience pour 
 vous relier à votre vision intérieure : source de votre bien-être e
 t de l'évolution vers laquelle vous pourrez aller pour y voir plus cl
 air dans vos projets.\n\nPour plus d'information, aller sur https://ep
 anews.fr/events/clarifier-sa-vision-conf-rence-exp-rientielle
DTSTART;TZID=Europe/Paris:20140212T193000
DTEND;TZID=Europe/Paris:20140212T210000
CATEGORIES:84
LOCATION:Espace Soleïam, 13, bis rue du bon Martinet, Avignon centre 
 ville
WEBSITE:
URL:
CONTACT:
ORGANIZER;CN="Alexandra Merer":https://epanews.fr/profile/AlexandraMer
 er
ATTACH;FMTTYPE="image/jpeg":http://storage.ning.com/topology/rest/1.0/
 file/get/1663046991?profile=original
ATTENDEE;ROLE=REQ-PARTICIPANT;PARTSTAT=ACCEPTED;RSVP=TRUE;CN="Alexandr
 a Merer":https://epanews.fr/profile/AlexandraMerer
END:VEVENT
END:VCALENDAR
