BEGIN:VCALENDAR
PRODID:NingEventWidget-v1
VERSION:2.0
METHOD:PUBLISH
BEGIN:VTIMEZONE
TZID:Europe/Paris
X-LIC-LOCATION:Europe/Paris
BEGIN:DAYLIGHT
TZOFFSETFROM:+0100
TZOFFSETTO:+0200
TZNAME:CEST
DTSTART:19700329T020000
RRULE:FREQ=YEARLY;BYMONTH=3;BYDAY=-1SU
END:DAYLIGHT
BEGIN:STANDARD
TZOFFSETFROM:+0200
TZOFFSETTO:+0100
TZNAME:CET
DTSTART:19701025T030000
RRULE:FREQ=YEARLY;BYMONTH=10;BYDAY=-1SU
END:STANDARD
END:VTIMEZONE
BEGIN:VEVENT
UID:2485226:Event:757381
DTSTAMP:20260425T031236Z
SUMMARY:clairvoyance et intuition
DESCRIPTION:Rencontre échange avec Marie Pascale Rémy le jeudi 26 av
 ril à 19h 45 à Nîmes 27 rue Jean Reboul .\n\nOrganisé par Voies Li
 bres\nContact : 06 15 55 18 65\n\nPour plus d'information, aller sur h
 ttps://epanews.fr/events/clairvoyance-et-intuition
DTSTART;TZID=Europe/Paris:20120426T194500
DTEND;TZID=Europe/Paris:20120426T214500
CATEGORIES:30
LOCATION:Nîmes
WEBSITE:
URL:
CONTACT:06 15 55 18 65
ORGANIZER;CN="Véronique Poisson-Rouzé":https://epanews.fr/profile/Ve
 roniquePoissonRouze
ATTACH;FMTTYPE="image/jpeg":
ATTENDEE;ROLE=REQ-PARTICIPANT;PARTSTAT=ACCEPTED;RSVP=TRUE;CN="Véroniq
 ue Poisson-Rouzé":https://epanews.fr/profile/VeroniquePoissonRouze
END:VEVENT
END:VCALENDAR
