BEGIN:VCALENDAR
PRODID:NingEventWidget-v1
VERSION:2.0
METHOD:PUBLISH
BEGIN:VTIMEZONE
TZID:Europe/Paris
X-LIC-LOCATION:Europe/Paris
BEGIN:DAYLIGHT
TZOFFSETFROM:+0100
TZOFFSETTO:+0200
TZNAME:CEST
DTSTART:19700329T020000
RRULE:FREQ=YEARLY;BYMONTH=3;BYDAY=-1SU
END:DAYLIGHT
BEGIN:STANDARD
TZOFFSETFROM:+0200
TZOFFSETTO:+0100
TZNAME:CET
DTSTART:19701025T030000
RRULE:FREQ=YEARLY;BYMONTH=10;BYDAY=-1SU
END:STANDARD
END:VTIMEZONE
BEGIN:VEVENT
UID:2485226:Event:798374
DTSTAMP:20260422T021856Z
SUMMARY:CinÃ© - DÃ©bat : Sommes-nous responsables de ce que lâ€™on vit
  ?
DESCRIPTION:Vendredi 18 mai 2012 : 19h30\nCinÃ©-dÃ©batUn jour sans fin
 LE FILM : MOURIR PLUSIEURS FOIS, RENAÃŽTRE Ã€ LA VIE,TOUJOURS Ã€ LA MÃ
 ŠME DATE, INDÃ‰FINIMENT...LE DÃ‰BAT : Sommes-nous responsables de ce q
 ue lâ€™on vit ?\nJeff se rÃ©veille tous les matins avec la mÃªme journ
 Ã©e Ã  vivre, c'est-Ã -dire un retouren arriÃ¨re dont il est conscient
  et en conservant les souvenirs de sa vie passÃ©e.Une vie sans souci s
 'offre donc Ã  lui d'autant qu'il compte bien ne pas refaire leserreur
 s du passÃ©.Combien de vies va t-il devoir affronter ? Et quelles cons
 Ã©quences cela va-t-ilentraÃ®ner ?Tarif : 8 eurosanimÃ© par :Laetitia 
 Barroso : ConfÃ©renciÃ¨reEcoute et accompagnement thÃ©rapeutiquePratic
 ienne en massages bien-Ãªtre selon lâ€™AyurvedaElisabeth Carton : ThÃ©
 rapeute holistique - SonothÃ©rapeute\nLieu, rÃ©servation et contactLâ€
 ™ATELIER DE CAROLE - 36 RUE PIERRE BOUVIER - 69270 FONTAINES SUR SAONE
 Laetitia Barroso : 06 09 51 70 46 - Elisabeth Carton : 06 88 19 22 06C
 arole Marceau : 06 08 34 97 31\n\nPour plus d'information, aller sur h
 ttps://epanews.fr/events/cin-d-bat-sommes-nous-responsables-de-ce-que-
 l-on-vit
DTSTART;TZID=Europe/Paris:20120518T193000
DTEND;TZID=Europe/Paris:20120518T223000
CATEGORIES:69
LOCATION:Lyon
WEBSITE:http://www.apanvayu.com
URL:http://www.apanvayu.com
CONTACT:0688192206
ORGANIZER;CN="Carton Elisabeth":https://epanews.fr/profile/CartonElisa
 beth
ATTACH;FMTTYPE="image/jpeg":http://storage.ning.com/topology/rest/1.0/
 file/get/1662606248?profile=original
ATTENDEE;ROLE=REQ-PARTICIPANT;PARTSTAT=ACCEPTED;RSVP=TRUE;CN="Carton E
 lisabeth":https://epanews.fr/profile/CartonElisabeth
END:VEVENT
END:VCALENDAR
