BEGIN:VCALENDAR
PRODID:NingEventWidget-v1
VERSION:2.0
METHOD:PUBLISH
BEGIN:VTIMEZONE
TZID:Europe/Paris
X-LIC-LOCATION:Europe/Paris
BEGIN:DAYLIGHT
TZOFFSETFROM:+0100
TZOFFSETTO:+0200
TZNAME:CEST
DTSTART:19700329T020000
RRULE:FREQ=YEARLY;BYMONTH=3;BYDAY=-1SU
END:DAYLIGHT
BEGIN:STANDARD
TZOFFSETFROM:+0200
TZOFFSETTO:+0100
TZNAME:CET
DTSTART:19701025T030000
RRULE:FREQ=YEARLY;BYMONTH=10;BYDAY=-1SU
END:STANDARD
END:VTIMEZONE
BEGIN:VEVENT
UID:2485226:Event:2934899
DTSTAMP:20260422T224658Z
SUMMARY:CinÃ©/dÃ©bat : C'est quoi le bonheur pour vous ?
DESCRIPTION:C'est quoi le bonheur pour vous ? venez vous faire une idÃ
 ©e de milliers de rÃ©ponses concoctÃ©es Ã  travers le monde durant 4 a
 nnÃ©es par julien PÃ©ron, crÃ©ateur de l'agence NÃ©o Bien ÃŠtre au cou
 rs d'une pÃ©rÃ©grination de plus de 800 000 km. Ce documentaire nous m
 et face Ã  nos propres choix et nos propres responsabilitÃ©s. Et nous 
 pourrons poursuivre les Ã©changes aprÃ¨s le film avec des acteurs loca
 ux qui sÃ¨ment au quotidien des graines de bonheur.\nL'Ã©vÃ¨nement et 
 le lien vers la billetterie sont sur cette page\n\nPour plus d'informa
 tion, aller sur https://epanews.fr/events/cin-changes-c-est-quoi-le-bo
 nheur-pour-vous
DTSTART;TZID=Europe/Paris:20180315T193000
DTEND;TZID=Europe/Paris:20180315T223000
CATEGORIES:37, 49, 72, 45, 41
LOCATION:mega CGR TOURS Centre
WEBSITE:https://www.google.fr/maps/place/Cin%C3%A9ma+M%C3%A9ga+CGR+-+T
 ours+Centre/@47.387943,0.6911448,17z/data=!4m12!1m6!3m5!1s0x47fcd5ca98
 8bc547:0xb92e113faa9f2587!2sCin%C3%A9ma+M%C3%A9ga+CGR+-+Tours+Centre!8
 m2!3d47.387943!4d0.6933335!3m4!1s0x47fcd5ca988bc547:0
URL:https://www.google.fr/maps/place/Cin%C3%A9ma+M%C3%A9ga+CGR+-+Tours
 +Centre/@47.387943,0.6911448,17z/data=!4m12!1m6!3m5!1s0x47fcd5ca988bc5
 47:0xb92e113faa9f2587!2sCin%C3%A9ma+M%C3%A9ga+CGR+-+Tours+Centre!8m2!3
 d47.387943!4d0.6933335!3m4!1s0x47fcd5ca988bc547:0
CONTACT:06 07 41 81 49
ORGANIZER;CN="MARIA LOIRE":https://epanews.fr/profile/MARIALOIRE
ATTACH;FMTTYPE="image/jpeg":http://storage.ning.com/topology/rest/1.0/
 file/get/1663728095?profile=original
ATTENDEE;ROLE=REQ-PARTICIPANT;PARTSTAT=ACCEPTED;RSVP=TRUE;CN="MARIA LO
 IRE":https://epanews.fr/profile/MARIALOIRE
END:VEVENT
END:VCALENDAR
