BEGIN:VCALENDAR
PRODID:NingEventWidget-v1
VERSION:2.0
METHOD:PUBLISH
BEGIN:VTIMEZONE
TZID:Europe/Paris
X-LIC-LOCATION:Europe/Paris
BEGIN:DAYLIGHT
TZOFFSETFROM:+0100
TZOFFSETTO:+0200
TZNAME:CEST
DTSTART:19700329T020000
RRULE:FREQ=YEARLY;BYMONTH=3;BYDAY=-1SU
END:DAYLIGHT
BEGIN:STANDARD
TZOFFSETFROM:+0200
TZOFFSETTO:+0100
TZNAME:CET
DTSTART:19701025T030000
RRULE:FREQ=YEARLY;BYMONTH=10;BYDAY=-1SU
END:STANDARD
END:VTIMEZONE
BEGIN:VEVENT
UID:2485226:Event:2673451
DTSTAMP:20260421T221757Z
SUMMARY:Réveiller votre énergie positive
DESCRIPTION:RÉVEILLER VOTRE ÉNERGIE POSITIVE\nUne journée composée
  de trois modules indépendants de 2h\n1er module 10h-12h : Les mouvem
 ents du bonheur\n2ème module 13h30-15h30 : Redonner sa place au cœur
  (Cohérence cardiaque)\n3ème module 16h-18h : Libération des émoti
 on (découverte de l'EFT)\nTous les détails sur cette page : http://w
 ww.institutdesphenix.fr/evenements/r%C3%A9veiller-votre-%C3%A9nergie-p
 ositive/\n\nPour plus d'information, aller sur https://epanews.fr/even
 ts/chrystel-herbeaux-del-pino
DTSTART;TZID=Europe/Paris:20160709T100000
DTEND;TZID=Europe/Paris:20160709T180000
CATEGORIES:75
LOCATION:FORUM 104 (Paris)
WEBSITE:
URL:
CONTACT:06 82 23 99 78
ORGANIZER;CN="Chrystel Qi Gong":https://epanews.fr/profile/ChrystelQiG
 ong
ATTACH;FMTTYPE="image/jpeg":http://storage.ning.com/topology/rest/1.0/
 file/get/1663581432?profile=original
ATTENDEE;ROLE=REQ-PARTICIPANT;PARTSTAT=ACCEPTED;RSVP=TRUE;CN="Chrystel
  Qi Gong":https://epanews.fr/profile/ChrystelQiGong
END:VEVENT
END:VCALENDAR
