BEGIN:VCALENDAR
PRODID:NingEventWidget-v1
VERSION:2.0
METHOD:PUBLISH
BEGIN:VTIMEZONE
TZID:Europe/Paris
X-LIC-LOCATION:Europe/Paris
BEGIN:DAYLIGHT
TZOFFSETFROM:+0100
TZOFFSETTO:+0200
TZNAME:CEST
DTSTART:19700329T020000
RRULE:FREQ=YEARLY;BYMONTH=3;BYDAY=-1SU
END:DAYLIGHT
BEGIN:STANDARD
TZOFFSETFROM:+0200
TZOFFSETTO:+0100
TZNAME:CET
DTSTART:19701025T030000
RRULE:FREQ=YEARLY;BYMONTH=10;BYDAY=-1SU
END:STANDARD
END:VTIMEZONE
BEGIN:VEVENT
UID:2485226:Event:2550586
DTSTAMP:20260421T150315Z
SUMMARY:choisir la suite
DESCRIPTION:Nous sommes tous confrontés à des changements que ce soi
 t au niveau individuel ou collectif.\nNous savons tous que le changeme
 nt c'est le principe même de la vie.\nCependant, trop de freins, de c
 onditionnements vous empêchent d'accéder à votre plein potentiel et
  finalement beaucoup de vos bonnes résolutions se perdent dans le cha
 os de votre rythme de vie trépidant...\nC'est pourquoi nous vous prop
 osons de vous accompagner dans votre nouvelle vie lors du séminaire \
 "Choisir la suite\" que nous donnerons les 23 et 24 janvier 2016 à Ai
 x en Provence.\nNous nous appuyons sur la sagesse de la médecine chin
 oise pour vous aider à mieux gérer les émotions que les changements
  entraînent ainsi que sur des outils originaux de développement pers
 onnel pour débloquer les freins et les conditionnements inhérents à
  chaque individu.\nNous privilégions un travail en petit groupe.\nNou
 s sommes Alice Tamaccio, Praticienne en Médecine Traditionnelle Chino
 ise et Christian Martin, psychologue spécialisé dans l'aide au chang
 ement.\ncontact: tamaccioalice@gmail.\nhttps://www.youtube.com/watch?v
 =RoQ8ZdCxjP8com\n\nPour plus d'information, aller sur https://epanews.
 fr/events/choisir-la-suite
DTSTART;TZID=Europe/Paris:20160123T090000
DTEND;TZID=Europe/Paris:20160124T170000
CATEGORIES:13
LOCATION:centre co-naissance
WEBSITE:http://www.toutsurlamedecinechinois.blogspot.fr
URL:http://www.toutsurlamedecinechinois.blogspot.fr
CONTACT:0622193891
ORGANIZER;CN=AT:https://epanews.fr/profile/AT
ATTACH;FMTTYPE="image/jpeg":http://storage.ning.com/topology/rest/1.0/
 file/get/1663510469?profile=original
ATTENDEE;ROLE=REQ-PARTICIPANT;PARTSTAT=ACCEPTED;RSVP=TRUE;CN=AT:https:
 //epanews.fr/profile/AT
END:VEVENT
END:VCALENDAR
