BEGIN:VCALENDAR
PRODID:NingEventWidget-v1
VERSION:2.0
METHOD:PUBLISH
BEGIN:VTIMEZONE
TZID:Europe/Paris
X-LIC-LOCATION:Europe/Paris
BEGIN:DAYLIGHT
TZOFFSETFROM:+0100
TZOFFSETTO:+0200
TZNAME:CEST
DTSTART:19700329T020000
RRULE:FREQ=YEARLY;BYMONTH=3;BYDAY=-1SU
END:DAYLIGHT
BEGIN:STANDARD
TZOFFSETFROM:+0200
TZOFFSETTO:+0100
TZNAME:CET
DTSTART:19701025T030000
RRULE:FREQ=YEARLY;BYMONTH=10;BYDAY=-1SU
END:STANDARD
END:VTIMEZONE
BEGIN:VEVENT
UID:2485226:Event:2920298
DTSTAMP:20260420T153759Z
SUMMARY:Chocolat tarot jeudi 25 janvier 2018
DESCRIPTION:CHOCOLAT-TAROT  Bonjour à toutes et à tous, ChocoLATITUD
 ES et Laurence, la maîtresse des lieux, ont le plaisir de vous annonc
 er  Une soirée Chocolat-Tarot aux dates suivantes de 18 à 21 heures,
  avec Houria (06 87 83 53 51) :  jeudi 25 janvier 2018 jeudi 22 févri
 er 2018 jeudi 29 mars 2018 jeudi 26 avril 2018 jeudi 31 mai 2018 jeudi
  28 juin 2018,  Bienvenu(e)s autour d’un verre ou d’une tasse.Les 
 consultations et les conférences sont gratuites (Si vous désirez par
 ticiper une boite est à votre disposition). Seule obligation, prendre
  une consommation.  Pas d'inscription préalable, l'inscription se fai
 t sur place et chacun passe dans l'ordre d'arrivée. Par ailleurs pour
  conserver la qualité de ma consultation au niveau du temps et respec
 ter la demande de Laurence de finir à 21 heures, il ne sera possible 
 de venir consulter au café que deux fois dans l'année pour une même
  personne. Plus une fois supplémentaire si elle vient accompagnée d'
 une nouvelle personne.  Et je vous recommande chaudement l'excellent c
 hocolat fabriqué par une chamane. Il est d'un niveau vibratoire élev
 é et c'est le seul endroit en France où vous pouvez l'acheter.  Choc
 oLATITUDES, C’est une boutique thématique autour du chocolat issu d
 e l’Agriculture Biologique et/ou du Commerce Equitable, où l’on p
 eut également déguster des chocolats chauds, cafés, thés, infusion
 s, jus de fruits et autres friandises chocolatées. 57 Rue Daguerre 75
 014 Paris Métro Denfert-Rochereau, Gaîté Station Vélib la plus pro
 che : Rue Froidevaux 01 42 18 49 02 http://www.chocolatitudes.com  « 
 Cesse de chercher ta place dans la vie, ta place te cherche. » Kalif 
 Ali\n\nPour plus d'information, aller sur https://epanews.fr/events/ch
 ocolat-tarot-jeudi-25-janvier-2018
DTSTART;TZID=Europe/Paris:20180125T180000
DTEND;TZID=Europe/Paris:20180125T210000
CATEGORIES:75
LOCATION:paris
WEBSITE:
URL:
CONTACT:0687835351
ORGANIZER;CN=globale:https://epanews.fr/profile/globale
ATTACH;FMTTYPE="image/jpeg":http://storage.ning.com/topology/rest/1.0/
 file/get/1663714050?profile=original
ATTENDEE;ROLE=REQ-PARTICIPANT;PARTSTAT=ACCEPTED;RSVP=TRUE;CN=globale:h
 ttps://epanews.fr/profile/globale
END:VEVENT
END:VCALENDAR
