BEGIN:VCALENDAR
PRODID:NingEventWidget-v1
VERSION:2.0
METHOD:PUBLISH
BEGIN:VTIMEZONE
TZID:Europe/Paris
X-LIC-LOCATION:Europe/Paris
BEGIN:DAYLIGHT
TZOFFSETFROM:+0100
TZOFFSETTO:+0200
TZNAME:CEST
DTSTART:19700329T020000
RRULE:FREQ=YEARLY;BYMONTH=3;BYDAY=-1SU
END:DAYLIGHT
BEGIN:STANDARD
TZOFFSETFROM:+0200
TZOFFSETTO:+0100
TZNAME:CET
DTSTART:19701025T030000
RRULE:FREQ=YEARLY;BYMONTH=10;BYDAY=-1SU
END:STANDARD
END:VTIMEZONE
BEGIN:VEVENT
UID:2485226:Event:2920048
DTSTAMP:20260421T184631Z
SUMMARY:Chocolat tarot jeudi 22 février 2018
DESCRIPTION:CHOCOLAT-TAROT  Bonjour à toutes et à tous, ChocoLATITUD
 ES et Laurence, la maîtresse des lieux, ont le plaisir de vous annonc
 er  Une soirée Chocolat-Tarot aux dates suivantes de 18 à 21 heures,
  avec Houria (06 87 83 53 51) :  jeudi 22 février 2018 jeudi 29 mars 
 2018 jeudi 26 avril 2018 jeudi 31 mai 2018 jeudi 28 juin 2018,  Bienve
 nu(e)s autour d’un verre ou d’une tasse.Les consultations et les c
 onférences sont gratuites (Si vous désirez participer une boite est 
 à votre disposition). Seule obligation, prendre une consommation.  Pa
 s d'inscription préalable, l'inscription se fait sur place et chacun 
 passe dans l'ordre d'arrivée. Par ailleurs pour conserver la qualité
  de ma consultation au niveau du temps et respecter la demande de Laur
 ence de finir à 21 heures, il ne sera possible de venir consulter au 
 café que deux fois dans l'année pour une même personne. Plus une fo
 is supplémentaire si elle vient accompagnée d'une nouvelle personne.
   Et je vous recommande chaudement l'excellent chocolat fabriqué par 
 une chamane. Il est d'un niveau vibratoire élevé et c'est le seul en
 droit en France où vous pouvez l'acheter.  ChocoLATITUDES, C’est un
 e boutique thématique autour du chocolat issu de l’Agriculture Biol
 ogique et/ou du Commerce Equitable, où l’on peut également dégust
 er des chocolats chauds, cafés, thés, infusions, jus de fruits et au
 tres friandises chocolatées. 57 Rue Daguerre 75014 Paris Métro Denfe
 rt-Rochereau, Gaîté Station Vélib la plus proche : Rue Froidevaux 0
 1 42 18 49 02 http://www.chocolatitudes.com  « Cesse de chercher ta p
 lace dans la vie, ta place te cherche. » Kalif Ali\n\nPour plus d'inf
 ormation, aller sur https://epanews.fr/events/chocolat-tarot-jeudi-22-
 jf-vrier-2018
DTSTART;TZID=Europe/Paris:20180222T180000
DTEND;TZID=Europe/Paris:20180222T210000
CATEGORIES:75
LOCATION:paris 14
WEBSITE:
URL:
CONTACT:0687835351
ORGANIZER;CN=globale:https://epanews.fr/profile/globale
ATTACH;FMTTYPE="image/jpeg":
ATTENDEE;ROLE=REQ-PARTICIPANT;PARTSTAT=ACCEPTED;RSVP=TRUE;CN=globale:h
 ttps://epanews.fr/profile/globale
END:VEVENT
END:VCALENDAR
