BEGIN:VCALENDAR
PRODID:NingEventWidget-v1
VERSION:2.0
METHOD:PUBLISH
BEGIN:VTIMEZONE
TZID:Europe/Paris
X-LIC-LOCATION:Europe/Paris
BEGIN:DAYLIGHT
TZOFFSETFROM:+0100
TZOFFSETTO:+0200
TZNAME:CEST
DTSTART:19700329T020000
RRULE:FREQ=YEARLY;BYMONTH=3;BYDAY=-1SU
END:DAYLIGHT
BEGIN:STANDARD
TZOFFSETFROM:+0200
TZOFFSETTO:+0100
TZNAME:CET
DTSTART:19701025T030000
RRULE:FREQ=YEARLY;BYMONTH=10;BYDAY=-1SU
END:STANDARD
END:VTIMEZONE
BEGIN:VEVENT
UID:2485226:Event:904924
DTSTAMP:20260422T164922Z
SUMMARY:Chi-Gong gratuit
DESCRIPTION:Vous avez envie de vous dÃ©tendre, de destresser, de calme
 r vos Ã©motions et d'une maniÃ¨re gÃ©nÃ©rale, de ressentir un mieux-Ãª
 tre ?\nÂ \nNous pratiquerons une forme de Chi Gong appelÃ© Falun Dafa.
  Cette technique nous vient tout droit des arts du bien-Ãªtre de la Ch
 ine ancienne.Â  Aujourd'hui, il y a une centaine de millions de pratiq
 uants partout dans le monde.\nÂ \nil s'agit de mouvements spÃ©cifiques
 , rÃ©partis en cinq exercices de base, qui permettent de revitaliser l
 e corps et qui favorisent la mÃ©ditation pendant la pratique. \nÂ Les 
 exercices, qui mettent en oeuvre des mÃ©canismes Ã©nergÃ©tiques subtil
 s, sont aussi une aide qui favorise une bonne santÃ©.\nÂ \nDurÃ©e : 1h
  environ\nGratuit\nÂ \nCette sÃ©ance se fait dans le cadre d'une journ
 Ã©e de mÃ©ditation. Pour les personnes intÃ©ressÃ©es, voici les horair
 es :\n14h-16h : mÃ©ditation Nadabrahma d'Osho (15 euros)\n16h-18h : mÃ
 ©ditation de l'amour (Ho'oponopono) (15 euros)\n18h-19h15 : mÃ©ditatio
 n Kundalini d'OshoÂ  (15 euros) \n19h30-22h : mÃ©ditation kundalini ma
 ntra (20 euros)\n\nPour plus d'information, aller sur https://epanews.
 fr/events/chi-gong-gratuit-1
DTSTART;TZID=Europe/Paris:20120831T130000
DTEND;TZID=Europe/Paris:20120831T140000
CATEGORIES:75
LOCATION:PARIS 11e
WEBSITE:
URL:
CONTACT:06 50 58 00 65
ORGANIZER;CN=Olivier:https://epanews.fr/profile/Olivier441
ATTACH;FMTTYPE="image/jpeg":http://storage.ning.com/topology/rest/1.0/
 file/get/1662648449?profile=original
ATTENDEE;ROLE=REQ-PARTICIPANT;PARTSTAT=ACCEPTED;RSVP=TRUE;CN=Olivier:h
 ttps://epanews.fr/profile/Olivier441
ATTENDEE;ROLE=REQ-PARTICIPANT;PARTSTAT=TENTATIVE;RSVP=TRUE;CN=Madie:ht
 tps://epanews.fr/profile/Madie
END:VEVENT
END:VCALENDAR
