BEGIN:VCALENDAR
PRODID:NingEventWidget-v1
VERSION:2.0
METHOD:PUBLISH
BEGIN:VTIMEZONE
TZID:Europe/Paris
X-LIC-LOCATION:Europe/Paris
BEGIN:DAYLIGHT
TZOFFSETFROM:+0100
TZOFFSETTO:+0200
TZNAME:CEST
DTSTART:19700329T020000
RRULE:FREQ=YEARLY;BYMONTH=3;BYDAY=-1SU
END:DAYLIGHT
BEGIN:STANDARD
TZOFFSETFROM:+0200
TZOFFSETTO:+0100
TZNAME:CET
DTSTART:19701025T030000
RRULE:FREQ=YEARLY;BYMONTH=10;BYDAY=-1SU
END:STANDARD
END:VTIMEZONE
BEGIN:VEVENT
UID:2485226:Event:157033
DTSTAMP:20260419T161314Z
SUMMARY:ChÃ©ri ! Pourquoi tu ne me comprends pas ?
DESCRIPTION:\n\"ChÃ©ri ! Pourquoi tu ne me comprends pas ?\"\nsuivi de
  : \"Je nâ€™ai plus envie de rentrer le soir\"\n\n\nAnne Marie BARREIR
 O, coach professionnelle\n\"7 clÃ©s pour communiquer\", mÃ©thode systÃ
 ©mique psychothÃ©rapeute\nCaroline SPIERO, certifiÃ©e EMDR Europe, ana
 lyse transactionnelle\n\n\nEst-il possible de se faire entendre, de sâ
 €™entendre\net de se comprendre en couple ? Et avec les adolescents ?\
 n\nLes sensations nÃ©gatives de ne pas Ãªtre entendu et respectÃ©\nenc
 lenchent une diminution de l'estime de soi et la violence relationnell
 e :\n- Est-ce que je ne vais pas blesser mon conjoint\net perdre son a
 mour si je m'oppose Ã  lui Ã  elle ?\n- Est-ce que je peux mâ€™affirme
 r avec mon enfant si je lui dis non ?\n- Est-ce que je vais pas passer
  pour un nul si je dis que jâ€™ai peur de me faire avoir ?\n\nS'affirm
 er, oser dire non ou donner des limites, exprimer ses besoins dÃ©clenc
 he bien souvent un cocktail dÃ©tonnant entre le doute, la peur, et la 
 culpabilitÃ©.\nAlors ? La communication idÃ©ale en couple existe-t-ell
 e ?\nEst-il possible de vivre en couple tout en Ã©tant soi mÃªme ? Com
 ment nos relations avec les adolescents mettent Ã  mal nos valeurs et 
 besoins ? Quelle issue possible pour bien vivre ses relations de coupl
 e ?\n\n20h15 | tarif : 6 â‚¬ | adhÃ©rent : 4 â‚¬\n\nPour plus d'inform
 ation, aller sur https://epanews.fr/events/cheri-pourquoi-tu-ne-me
DTSTART;TZID=Europe/Paris:20101122T201500
DTEND;TZID=Europe/Paris:20101122T220000
CATEGORIES:34
LOCATION:Centre 665, Montpellier
WEBSITE:http://www.happyplanetdays.com
URL:http://www.happyplanetdays.com
CONTACT:06 32 08 51 58
ORGANIZER;CN="Franck Dagorn":https://epanews.fr/profile/FranckDagorn
ATTACH;FMTTYPE="image/jpeg":
ATTENDEE;ROLE=REQ-PARTICIPANT;PARTSTAT=ACCEPTED;RSVP=TRUE;CN="Franck D
 agorn":https://epanews.fr/profile/FranckDagorn
END:VEVENT
END:VCALENDAR
