BEGIN:VCALENDAR
PRODID:NingEventWidget-v1
VERSION:2.0
METHOD:PUBLISH
BEGIN:VTIMEZONE
TZID:Europe/Paris
X-LIC-LOCATION:Europe/Paris
BEGIN:DAYLIGHT
TZOFFSETFROM:+0100
TZOFFSETTO:+0200
TZNAME:CEST
DTSTART:19700329T020000
RRULE:FREQ=YEARLY;BYMONTH=3;BYDAY=-1SU
END:DAYLIGHT
BEGIN:STANDARD
TZOFFSETFROM:+0200
TZOFFSETTO:+0100
TZNAME:CET
DTSTART:19701025T030000
RRULE:FREQ=YEARLY;BYMONTH=10;BYDAY=-1SU
END:STANDARD
END:VTIMEZONE
BEGIN:VEVENT
UID:2485226:Event:2649257
DTSTAMP:20260422T201350Z
SUMMARY:Chants Sacrés: Paix et Fraternité ! #Nuitdebout/Commission E
 veil des consciences
DESCRIPTION:Les chants sacrés touchent notre cœur et élèvent notre
  âme. A travers les chants sacrés de différentes traditions, nous n
 ous relions aux énergies de Paix et de Lumière, pour nous-mêmes et 
 pour toute l'humanité.\nVous êtes toutes et tous les bienvenu(e)s!\n
 Dans la joie de cette rencontre,  Jayanta Clément 06 87 02 46 84\nhtt
 ps://www.facebook.com/shantigaia.org/?fref=ts\nhttps://www.facebook.co
 m/groups/commissioneveildesconsciences/?fref=ts\n\nPour plus d'informa
 tion, aller sur https://epanews.fr/events/chants-sacr-s-paix-et-frater
 nit-nuitdebout
DTSTART;TZID=Europe/Paris:20160524T200000
DTEND;TZID=Europe/Paris:20160524T210000
CATEGORIES:75
LOCATION:Place de la République
WEBSITE:http://www.shantigaia.org
URL:http://www.shantigaia.org
CONTACT:0687024684
ORGANIZER;CN=musiqueclemennt:https://epanews.fr/profile/musiqueclemenn
 t
ATTACH;FMTTYPE="image/jpeg":http://storage.ning.com/topology/rest/1.0/
 file/get/1663568743?profile=original
ATTENDEE;ROLE=REQ-PARTICIPANT;PARTSTAT=ACCEPTED;RSVP=TRUE;CN=musiquecl
 emennt:https://epanews.fr/profile/musiqueclemennt
END:VEVENT
END:VCALENDAR
