BEGIN:VCALENDAR
PRODID:NingEventWidget-v1
VERSION:2.0
METHOD:PUBLISH
BEGIN:VTIMEZONE
TZID:Europe/Paris
X-LIC-LOCATION:Europe/Paris
BEGIN:DAYLIGHT
TZOFFSETFROM:+0100
TZOFFSETTO:+0200
TZNAME:CEST
DTSTART:19700329T020000
RRULE:FREQ=YEARLY;BYMONTH=3;BYDAY=-1SU
END:DAYLIGHT
BEGIN:STANDARD
TZOFFSETFROM:+0200
TZOFFSETTO:+0100
TZNAME:CET
DTSTART:19701025T030000
RRULE:FREQ=YEARLY;BYMONTH=10;BYDAY=-1SU
END:STANDARD
END:VTIMEZONE
BEGIN:VEVENT
UID:2485226:Event:2568049
DTSTAMP:20260422T080636Z
SUMMARY:Chants Mantras
DESCRIPTION:Chants Mantras\nGuidÃ© par Emmanuel Mansion\nVendredi 12 f
 Ã©vrierÂ - 19h30 Ã  21h30\nLes mantras sont des phrases sanskrites ou 
 tibÃ©taines que l'on rÃ©pÃ¨te plusieurs fois. Traditionnellement rÃ©ci
 tÃ©s ou psalmodiÃ©s, il existe aussi une version chantÃ©e, plus adaptÃ
 ©e au monde occidental. Chanter des mantras en groupe invite Ã  la Vib
 ration, Ã  la MÃ©ditation et au Partage.\nOuvert Ã  tous, chacun y par
 ticipe tel qu'il est, selon ses convictions.Â \nLes valeurs spirituell
 es vÃ©hiculÃ©es par les mantras - paix, amour, gratitude, etc. - nous 
 permettent de nous relier dans la joie et la simplicitÃ©.\nEnfants bie
 nvenus, paf 10â‚¬ (tarif rÃ©duit sur demande : 6â‚¬)\nValÃ©rie Sentilh
 es : 06 89 84 69 87 Â  Â  Â  Â  Â \nEmmanuel Mansion : 06 85 90 16 49Â
  \n\n\n\n\n\nPour plus d'information, aller sur https://epanews.fr/eve
 nts/chants-mantras
DTSTART;TZID=Europe/Paris:20160212T193000
DTEND;TZID=Europe/Paris:20160212T213000
CATEGORIES:38
LOCATION:La VallÃ©e Rieuse Coublevie
WEBSITE:https://goo.gl/maps/xR6sAH7jxUt
URL:https://goo.gl/maps/xR6sAH7jxUt
CONTACT:0689846987
ORGANIZER;CN="Sentihes ValÃ©rie":https://epanews.fr/profile/AmourouxVa
 lerie
ATTACH;FMTTYPE="image/jpeg":http://storage.ning.com/topology/rest/1.0/
 file/get/1663520208?profile=original
ATTENDEE;ROLE=REQ-PARTICIPANT;PARTSTAT=ACCEPTED;RSVP=TRUE;CN="Sentihes
  ValÃ©rie":https://epanews.fr/profile/AmourouxValerie
END:VEVENT
END:VCALENDAR
