BEGIN:VCALENDAR
PRODID:NingEventWidget-v1
VERSION:2.0
METHOD:PUBLISH
BEGIN:VTIMEZONE
TZID:Europe/Paris
X-LIC-LOCATION:Europe/Paris
BEGIN:DAYLIGHT
TZOFFSETFROM:+0100
TZOFFSETTO:+0200
TZNAME:CEST
DTSTART:19700329T020000
RRULE:FREQ=YEARLY;BYMONTH=3;BYDAY=-1SU
END:DAYLIGHT
BEGIN:STANDARD
TZOFFSETFROM:+0200
TZOFFSETTO:+0100
TZNAME:CET
DTSTART:19701025T030000
RRULE:FREQ=YEARLY;BYMONTH=10;BYDAY=-1SU
END:STANDARD
END:VTIMEZONE
BEGIN:VEVENT
UID:2485226:Event:2921488
DTSTAMP:20260424T223605Z
SUMMARY:Atelier méditation, chant et mouvement autour du thème de l'
 énergie vitale
DESCRIPTION:Bonjour,\nJ'organise un atelier de chant autour du thème 
 \"l'énergie vitale\", toutes les informations sur le flyer en pièce 
 jointe.\nJoie et paix,\nFrédéric\n\nPour plus d'information, aller s
 ur https://epanews.fr/events/chants-du-mantra-1
DTSTART;TZID=Europe/Paris:20180323T190000
DTEND;TZID=Europe/Paris:20180323T203000
CATEGORIES:34
LOCATION:Beaufort
WEBSITE:
URL:
CONTACT:0650718766
ORGANIZER:
ATTACH;FMTTYPE="image/jpeg":http://storage.ning.com/topology/rest/1.0/
 file/get/1663712200?profile=original
ATTENDEE;ROLE=REQ-PARTICIPANT;PARTSTAT=ACCEPTED;RSVP=TRUE;CN="Frédér
 ic PMT":https://epanews.fr/profile/FredericPMT
END:VEVENT
END:VCALENDAR
