BEGIN:VCALENDAR
PRODID:NingEventWidget-v1
VERSION:2.0
METHOD:PUBLISH
BEGIN:VTIMEZONE
TZID:Europe/Paris
X-LIC-LOCATION:Europe/Paris
BEGIN:DAYLIGHT
TZOFFSETFROM:+0100
TZOFFSETTO:+0200
TZNAME:CEST
DTSTART:19700329T020000
RRULE:FREQ=YEARLY;BYMONTH=3;BYDAY=-1SU
END:DAYLIGHT
BEGIN:STANDARD
TZOFFSETFROM:+0200
TZOFFSETTO:+0100
TZNAME:CET
DTSTART:19701025T030000
RRULE:FREQ=YEARLY;BYMONTH=10;BYDAY=-1SU
END:STANDARD
END:VTIMEZONE
BEGIN:VEVENT
UID:2485226:Event:1523157
DTSTAMP:20260420T021543Z
SUMMARY:Chantons ensemble autour du piano
DESCRIPTION:Bonjour Ã  chacun,Â \n\n\n\n\n\n\n\n\n\n\n\n\n\"Chantons e
 nsemble autour du piano\"Â reprendÂ \nSamedi prochain 14 septembre de 
 20h30 Ã  23h30\nÂ \n(prochaines dates : les samedis 5 octobre, 16 nove
 mbre et 14 dÃ©cembre)\nÂ \nOuverture des portes Ã  19h30\nNous chanter
 ons ensemble de 20h30 Ã  22h30 puis, dans la convivialitÃ©, nous parta
 gerons ce que chacun aura apportÃ© (un plat et une boisson)\nNombre de
  places est limitÃ©\nMe prÃ©venir de votre participation.\n06 73 35 89
  97 -Â contact@jeanpauliva.fr\nÂ \n\n\n\n\n\n\n\n\n\n\n\n\nChansons fr
 anÃ§aises pour le plaisirÂ Ã  partager ensemble dans la joie\nPour prÃ
 ©parer cette soirÃ©e\nj'ai sÃ©lectionnÃ© 15 chansons que vous pouvez Ã
 ©couter derriÃ¨re le lien suivant :\nÂ \nhttp://jeanpauliva.fr\nÂ \n\n
 \n\n\n\nLes passantes - Brassens / Le gorille - Brassens / PoupÃ©e de 
 cire - France Gall / Aragon et Castille - Bobby Lapointe / Couleur Caf
 Ã© - Gainsbourg / Le poinÃ§onneur des Lilas - Gainsbourg / Le p'tit bo
 nheur - FÃ©lix Leclerc / Non, je ne regrette rien - Piaf / Le tourbill
 on - Jeanne Moreau / Bambino - Dalida / Je m'voyais dÃ©jÃ  - Aznavour 
 / Mon frÃ¨re - Le Forestier / Gentleman cambrioleur - Dutronc / Ouvrez
  a cage aux oiseaux - Perret / Maladie d'amour - Salsvador\nÂ \n\n\n\n
 \n\n\n\n\n\n\nÂ \nChez Christine Olivier\n86, rue Marcadet\n75018 Pari
 s\nMÂ° Marcadet-Poissonnier - ligne 4\nTarif : 10â‚¬\nSi vous Ãªtes dÃ
 ©jÃ  venu(e) et amenez une nouvelle personne, votre entrÃ©e est Ã  5â‚
 ¬\n\nLe code vous sera communiquÃ© aprÃ¨s votre inscription\nRenseigne
 ments & inscriptions : 06 73 35 89 97\n\n\n\n\n\n\n\n\n\n\n\n\n\n\nPou
 r plus d'information, aller sur https://epanews.fr/events/chantons-ens
 emble-autour-du-piano-2
DTSTART;TZID=Europe/Paris:20130914T193000
DTEND;TZID=Europe/Paris:20130914T233000
CATEGORIES:75
LOCATION:Paris 18
WEBSITE:http://www.jeanpauliva.fr
URL:http://www.jeanpauliva.fr
CONTACT:06 73 35 89 97
ORGANIZER;CN="Jean-Paul Iva":https://epanews.fr/profile/JeanPaulIva
ATTACH;FMTTYPE="image/jpeg":http://storage.ning.com/topology/rest/1.0/
 file/get/1662913017?profile=original
ATTENDEE;ROLE=REQ-PARTICIPANT;PARTSTAT=ACCEPTED;RSVP=TRUE;CN="Jean-Pau
 l Iva":https://epanews.fr/profile/JeanPaulIva
END:VEVENT
END:VCALENDAR
