BEGIN:VCALENDAR
PRODID:NingEventWidget-v1
VERSION:2.0
METHOD:PUBLISH
BEGIN:VTIMEZONE
TZID:Europe/Paris
X-LIC-LOCATION:Europe/Paris
BEGIN:DAYLIGHT
TZOFFSETFROM:+0100
TZOFFSETTO:+0200
TZNAME:CEST
DTSTART:19700329T020000
RRULE:FREQ=YEARLY;BYMONTH=3;BYDAY=-1SU
END:DAYLIGHT
BEGIN:STANDARD
TZOFFSETFROM:+0200
TZOFFSETTO:+0100
TZNAME:CET
DTSTART:19701025T030000
RRULE:FREQ=YEARLY;BYMONTH=10;BYDAY=-1SU
END:STANDARD
END:VTIMEZONE
BEGIN:VEVENT
UID:2485226:Event:2936680
DTSTAMP:20260424T212631Z
SUMMARY:Chant spontanÃ© vendredi 23 mars 2018
DESCRIPTION:Je vous propose de venir dÃ©couvrir le chant spontanÃ© lor
 s dâ€™une soirÃ©e oÃ¹ vous aurez lâ€™occasion dâ€™expÃ©rimenter votre 
 musique intÃ©rieure et votre voix.\nÂ \nLe chant spontanÃ© est une for
 me de reliance Ã  son intÃ©rioritÃ©, Ã  son souffle, Ã  sa voix.\nÂ \n
 Nous prÃ©parerons notre voix par des exercices visant Ã  (re)dÃ©couvri
 r nos organes liÃ©s aux sonsÂ : souffle (poumons), les cordes vocales,
  la cavitÃ© buccaleâ€¦ Nous jouerons avec les instruments magiques don
 t notre corps est dotÃ©.\nÂ \nNous improviserons sans chercher un rÃ©s
 ultat tel un enfant qui expÃ©rimente et sâ€™amuse de dÃ©couvrir une ex
 pressivitÃ© liÃ©e Ã  nos sens et notre sensorialitÃ©. Nous explorerons
  le chemin sans nous fixer de but.\nÂ \nLe chant spontanÃ© est par dÃ©
 finition libre, joyeux, crÃ©atif et se place dans le partage. Il se pl
 ace dans la spontanÃ©itÃ© de lâ€™instant prÃ©sent.\nÂ \nNous devenons 
 Ã©coute et harmonie. Nous prenons place au sein dâ€™un groupe et nous 
 y contribuons de ce que nous sommes, sans volontÃ© autre que de faire 
 partie dâ€™une aventure et dâ€™un jeu.\nÂ \nLa voix est un outil puiss
 ant qui permet des libÃ©rations, une harmonisation et parfois des guÃ©
 risons. Elle permet de nous reconnecter Ã  notre centre et Ã  notre cÅ
 “ur, Â de nous apaiser et de nous relier dans le partage.\nÂ \n\nLe ch
 ant spontanÃ© est comme un enfantÂ : il vit, sâ€™amuse, se joue des rÃ
 ¨gles Ã©tablies, explore, dÃ©passe le chaos pour trouver lâ€™harmonie.
 \nÂ \n\nÂ \nLaissez-vous porter Ã  Ãªtre traversÃ©, bouleversÃ©, trans
 formÃ© par la beautÃ© de ce qui Ã©mane de votre voix.\nÂ \nLaissez la 
 confiance vous gagner au travers de la simplicitÃ©.\nÂ \nLaissez-vous 
 cueillir par un jeu dans lequel il nâ€™y a aucune rÃ¨gle, un chemin sa
 ns destination, sans attente, sans volontÃ©, juste le plaisir de goÃ»t
 er, de sâ€™Ã©merveiller et de sâ€™abandonner.\nÂ \nLe chant spontanÃ© 
 est profondÃ©ment ancrÃ© dans lâ€™instant prÃ©sent, telle une mÃ©ditat
 ion de pleine conscience qui centre et ancre.\nÂ \nLe Chant SpontanÃ© 
 est une pratique de chant d'improvisation qui ne s'appuie pas sur des 
 structures rythmiques ou musicales connues ou imposÃ©es.\nÂ \nCâ€™est 
 une occasion de chanter ensemble sans visÃ©e esthÃ©tique, sans attente
 , sans projet.\nÂ \nInformations pratiquesÂ :\nLieuÂ : 25 rue du centr
 e 91630 Marolles en Hurepoix\nÂ \nDates et horairesÂ : vendredi 23 mar
 s 2018 de 19h30 Ã  20h30\nÂ \nPAF : 15â‚¬\nÂ \nPrÃ©voyez un coussin, u
 ne couverture et des vÃªtements confortables.\nÂ \nÂ Merci de me prÃ©v
 enir de votre prÃ©sence au 06 75 61 68 86 ou par mail gaianata.gaianat
 a@gmail.com.\nÂ \nÂ Gaianata\nÂ \n\nPour plus d'information, aller sur
  https://epanews.fr/events/chant-spontan-vendredi-23-mars-2018
DTSTART;TZID=Europe/Paris:20180323T193000
DTEND;TZID=Europe/Paris:20180323T203000
CATEGORIES:91
LOCATION:cabinet
WEBSITE:
URL:
CONTACT:06 75 61 68 86
ORGANIZER;CN=gaianata:https://epanews.fr/profile/pachagaia
ATTACH;FMTTYPE="image/jpeg":http://storage.ning.com/topology/rest/1.0/
 file/get/1663724508?profile=original
ATTENDEE;ROLE=REQ-PARTICIPANT;PARTSTAT=ACCEPTED;RSVP=TRUE;CN=gaianata:
 https://epanews.fr/profile/pachagaia
END:VEVENT
END:VCALENDAR
