BEGIN:VCALENDAR
PRODID:NingEventWidget-v1
VERSION:2.0
METHOD:PUBLISH
BEGIN:VTIMEZONE
TZID:Europe/Paris
X-LIC-LOCATION:Europe/Paris
BEGIN:DAYLIGHT
TZOFFSETFROM:+0100
TZOFFSETTO:+0200
TZNAME:CEST
DTSTART:19700329T020000
RRULE:FREQ=YEARLY;BYMONTH=3;BYDAY=-1SU
END:DAYLIGHT
BEGIN:STANDARD
TZOFFSETFROM:+0200
TZOFFSETTO:+0100
TZNAME:CET
DTSTART:19701025T030000
RRULE:FREQ=YEARLY;BYMONTH=10;BYDAY=-1SU
END:STANDARD
END:VTIMEZONE
BEGIN:VEVENT
UID:2485226:Event:525306
DTSTAMP:20260423T033730Z
SUMMARY:Chant de l'Ă˘me
DESCRIPTION:DECOUVREZ VOTRE VOIX !\nAtelier d'expression vocale\nanimĂ
 © par Astrid Schilling\nÂ \n- Chant de l'Ă˘me\n- Improvisation de grou
 pe\n- Harmoniques et sons de dĂ©tente\n- Optimisation du souffle et de
  la voix\npar la respiration\n- Expression verbale et chantĂ©e\nÂ \nL'
 atelier est ouvert Ă  tous.\nInscription trimestrielle.\nPrix : 25 eur
 os la sĂ©ance soit 150 euros le trimestre,\npossibilitĂ© dâ€™encaissem
 ent en trois fois, dĂ©but de mois.\n\nPour plus d'information, aller s
 ur https://epanews.fr/events/chant-de-l-me
DTSTART;TZID=Europe/Paris:20111104T193000
DTEND;TZID=Europe/Paris:20111104T203000
CATEGORIES:95, pontoise
LOCATION:Pontoise
WEBSITE:http://www.coeursacorps.com
URL:http://www.coeursacorps.com
CONTACT:0130320346
ORGANIZER;CN="Nadia Poullain":https://epanews.fr/profile/NadiaPoullain
ATTACH;FMTTYPE="image/jpeg":
ATTENDEE;ROLE=REQ-PARTICIPANT;PARTSTAT=ACCEPTED;RSVP=TRUE;CN="Nadia Po
 ullain":https://epanews.fr/profile/NadiaPoullain
END:VEVENT
END:VCALENDAR
