BEGIN:VCALENDAR
PRODID:NingEventWidget-v1
VERSION:2.0
METHOD:PUBLISH
BEGIN:VTIMEZONE
TZID:Europe/Paris
X-LIC-LOCATION:Europe/Paris
BEGIN:DAYLIGHT
TZOFFSETFROM:+0100
TZOFFSETTO:+0200
TZNAME:CEST
DTSTART:19700329T020000
RRULE:FREQ=YEARLY;BYMONTH=3;BYDAY=-1SU
END:DAYLIGHT
BEGIN:STANDARD
TZOFFSETFROM:+0200
TZOFFSETTO:+0100
TZNAME:CET
DTSTART:19701025T030000
RRULE:FREQ=YEARLY;BYMONTH=10;BYDAY=-1SU
END:STANDARD
END:VTIMEZONE
BEGIN:VEVENT
UID:2485226:Event:127380
DTSTAMP:20260421T223538Z
SUMMARY:Chansons Polissonnes - Stage choral
DESCRIPTION:dimanche 12 Décembre\n\nOsez\n\nLA POLISSONNERIE VOCALE\n
 \nStages chorals de chansons polyphones polissonniques\n\nDes textes p
 oétiques, coquins, malicieux, drôles,\njamais vulgaires.\nDes arrang
 ements musicaux très… inspirés… par le mot\net… par la chose\n
 Une ambiance intensément… conviviale\nEt néanmoins un cadre de tra
 vail… exigeant\n\n\nLe tout orchestré par\nJean-Paul Iva\nChef de C
 hœur, Compositeur et tromboniste\n\nLieu : Paris durée : 6 heures Pr
 ix : 70€\n\nDimanche 12 décembre 2010, Dimanche 13 février,\nDiman
 che 3 avril, Dimanche 29 mai 2011\n\nAttention ! Ces stages demandant 
 un investissement personnel en amont, les inscriptions sont closes 15 
 jours avant le début du stage.\n\nhttp://chansonspolissonnes.free.fr\
 nchansonspolissonnes@free.fr\n06 73 35 89 97\n\nPour plus d'informatio
 n, aller sur https://epanews.fr/events/chansons-polissonnes-stage
DTSTART;TZID=Europe/Paris:20101212T000000
DTEND;TZID=Europe/Paris:20101212T235900
CATEGORIES:75013
LOCATION:Paris
WEBSITE:
URL:
CONTACT:06 73 35 89 97
ORGANIZER;CN="Jean-Paul Iva":https://epanews.fr/profile/JeanPaulIva
ATTACH;FMTTYPE="image/jpeg":
ATTENDEE;ROLE=REQ-PARTICIPANT;PARTSTAT=ACCEPTED;RSVP=TRUE;CN="Jean-Pau
 l Iva":https://epanews.fr/profile/JeanPaulIva
END:VEVENT
END:VCALENDAR
