BEGIN:VCALENDAR
PRODID:NingEventWidget-v1
VERSION:2.0
METHOD:PUBLISH
BEGIN:VTIMEZONE
TZID:Europe/Paris
X-LIC-LOCATION:Europe/Paris
BEGIN:DAYLIGHT
TZOFFSETFROM:+0100
TZOFFSETTO:+0200
TZNAME:CEST
DTSTART:19700329T020000
RRULE:FREQ=YEARLY;BYMONTH=3;BYDAY=-1SU
END:DAYLIGHT
BEGIN:STANDARD
TZOFFSETFROM:+0200
TZOFFSETTO:+0100
TZNAME:CET
DTSTART:19701025T030000
RRULE:FREQ=YEARLY;BYMONTH=10;BYDAY=-1SU
END:STANDARD
END:VTIMEZONE
BEGIN:VEVENT
UID:2485226:Event:30282
DTSTAMP:20260421T100432Z
SUMMARY:channeling message de vos guides
DESCRIPTION:Bienvenue Ã  toutes celles et Ã  tous ceux qui souhaitent 
 avancer de maniÃ¨re plus consciente dans leur vie et goÃ»ter un moment
  entre parenthÃ¨ses, hors du temps, simplement.\nLe passÃ© et le prÃ©s
 ent construisent notre futur. Les messages sont une traduction de lâ€™
 Ã©nergie de lâ€™instant. Par la magie du monde subtil, avoir accÃ¨s Ã 
  cette Ã©nergie nous permet de modifier notre regard, dâ€™ouvrir de no
 uvelles fenÃªtres, dâ€™entrevoir de nouvelles perspectives et ainsi de
  construire notre futur de maniÃ¨re plus consciente. Le channeling est
  une invitation bien plus quâ€™une divination car nous restons toujour
 s les principaux crÃ©ateurs de notre vie !\n\nLe channeling permet dâ€
 ™entrer en rÃ©sonnance par le verbe avec la partie sacrÃ©e, intime et 
 essentielle de lâ€™Ãªtre. Il capte les Ã©nergies en prÃ©sence et les t
 raduit en mots, renforÃ§ant la frÃ©quence. Ainsi chacun se trouve-t-il
  baignÃ© dans une vibration de lumiÃ¨re et dâ€™amour qui le guide dans
  son centre, dans son Ãªtre, dans la paix. Câ€™est un voyage vers soi-
 mÃªme, en groupe.\n\nJe canaliserai pour le groupe. Le thÃ¨me du jour 
 Ã©mergera au dÃ©but de la sÃ©ance. Les messages sâ€™adresseront pourta
 nt Ã  chacun car les mots sont la transcription des Ã©nergies en prÃ©s
 ence et câ€™est votre ouverture et votre disponibilitÃ© qui donneront 
 la puissance et la beautÃ© aux messages canalisÃ©s. Un espace sera ouv
 ert ensuite pour vos questions.\nPlaces limitÃ©es, merci de vous inscr
 ire au prÃ©alable !\n\nPour plus d'information, aller sur https://epan
 ews.fr/events/channeling-message-de-vos-2
DTSTART;TZID=Europe/Paris:20100416T150000
DTEND;TZID=Europe/Paris:20100416T163000
CATEGORIES:83
LOCATION:A la Licorne d'Or
WEBSITE:http://www.alalicornedor.com
URL:http://www.alalicornedor.com
CONTACT:04.9439.83.61
ORGANIZER;CN=sabine:https://epanews.fr/profile/sabine
ATTACH;FMTTYPE="image/jpeg":http://storage.ning.com/topology/rest/1.0/
 file/get/1662290718?profile=original
ATTENDEE;ROLE=REQ-PARTICIPANT;PARTSTAT=ACCEPTED;RSVP=TRUE;CN=sabine:ht
 tps://epanews.fr/profile/sabine
ATTENDEE;ROLE=REQ-PARTICIPANT;PARTSTAT=TENTATIVE;RSVP=TRUE;CN=philippe
 6000:https://epanews.fr/profile/philippe6000
END:VEVENT
END:VCALENDAR
