BEGIN:VCALENDAR
PRODID:NingEventWidget-v1
VERSION:2.0
METHOD:PUBLISH
BEGIN:VTIMEZONE
TZID:Europe/Paris
X-LIC-LOCATION:Europe/Paris
BEGIN:DAYLIGHT
TZOFFSETFROM:+0100
TZOFFSETTO:+0200
TZNAME:CEST
DTSTART:19700329T020000
RRULE:FREQ=YEARLY;BYMONTH=3;BYDAY=-1SU
END:DAYLIGHT
BEGIN:STANDARD
TZOFFSETFROM:+0200
TZOFFSETTO:+0100
TZNAME:CET
DTSTART:19701025T030000
RRULE:FREQ=YEARLY;BYMONTH=10;BYDAY=-1SU
END:STANDARD
END:VTIMEZONE
BEGIN:VEVENT
UID:2485226:Event:2147662
DTSTAMP:20260422T124159Z
SUMMARY:Champ d'argile® et Constellations familiales
DESCRIPTION:Champ d'argile® et Constellations familiales \n pour un
 e meilleure conscience de soi et de sa relation au monde\nrenseignemen
 ts : http://www.nathaliepigot.wix.com/champdargile\nhttp://www.constel
 lations-familiales.org/\n\nPour plus d'information, aller sur https://
 epanews.fr/events/champ-d-argile-et-constellations-familiales
DTSTART;TZID=Europe/Paris:20150116T180000
DTEND;TZID=Europe/Paris:20150118T180000
CATEGORIES:26
LOCATION:Dieulefit,
WEBSITE:
URL:
CONTACT:0475462953
ORGANIZER;CN="nathalie Pigot":https://epanews.fr/profile/nathaliePigot
ATTACH;FMTTYPE="image/jpeg":
ATTENDEE;ROLE=REQ-PARTICIPANT;PARTSTAT=ACCEPTED;RSVP=TRUE;CN="nathalie
  Pigot":https://epanews.fr/profile/nathaliePigot
END:VEVENT
END:VCALENDAR
