BEGIN:VCALENDAR
PRODID:NingEventWidget-v1
VERSION:2.0
METHOD:PUBLISH
BEGIN:VTIMEZONE
TZID:Europe/Paris
X-LIC-LOCATION:Europe/Paris
BEGIN:DAYLIGHT
TZOFFSETFROM:+0100
TZOFFSETTO:+0200
TZNAME:CEST
DTSTART:19700329T020000
RRULE:FREQ=YEARLY;BYMONTH=3;BYDAY=-1SU
END:DAYLIGHT
BEGIN:STANDARD
TZOFFSETFROM:+0200
TZOFFSETTO:+0100
TZNAME:CET
DTSTART:19701025T030000
RRULE:FREQ=YEARLY;BYMONTH=10;BYDAY=-1SU
END:STANDARD
END:VTIMEZONE
BEGIN:VEVENT
UID:2485226:Event:125218
DTSTAMP:20260420T012535Z
SUMMARY:Chamanisme TERRE CIEL: \"Le chant du tambour\"
DESCRIPTION:Le tambour vivant du chaman nous parle profondement. Sa vo
 ix archaique et universelle nous eveille à d'autres dimensions et nou
 s ouvre les portes de nos cimes et de nos racines. Un travail au coeur
  du parc naturel des landes, dans une yourte, autour du tambour, du co
 rps pour naviguer au coeur de l'être et du monde.\nPrix 60€\n\nPour
  plus d'information, aller sur https://epanews.fr/events/chamanisme-te
 rre-ciel-le-chant
DTSTART;TZID=Europe/Paris:20101121T000000
DTEND;TZID=Europe/Paris:20101121T235900
CATEGORIES:40
LOCATION:Callen  dans les landes.
WEBSITE:http://sites.google.com/site/atlantikchamane/home
URL:http://sites.google.com/site/atlantikchamane/home
CONTACT:06 86 41 27 62
ORGANIZER;CN="Sidarta (Atlantik chaman)":https://epanews.fr/profile/Si
 dartaAtlantikchaman
ATTACH;FMTTYPE="image/jpeg":
ATTENDEE;ROLE=REQ-PARTICIPANT;PARTSTAT=ACCEPTED;RSVP=TRUE;CN="Sidarta 
 (Atlantik chaman)":https://epanews.fr/profile/SidartaAtlantikchaman
END:VEVENT
END:VCALENDAR
