BEGIN:VCALENDAR
PRODID:NingEventWidget-v1
VERSION:2.0
METHOD:PUBLISH
BEGIN:VTIMEZONE
TZID:Europe/Paris
X-LIC-LOCATION:Europe/Paris
BEGIN:DAYLIGHT
TZOFFSETFROM:+0100
TZOFFSETTO:+0200
TZNAME:CEST
DTSTART:19700329T020000
RRULE:FREQ=YEARLY;BYMONTH=3;BYDAY=-1SU
END:DAYLIGHT
BEGIN:STANDARD
TZOFFSETFROM:+0200
TZOFFSETTO:+0100
TZNAME:CET
DTSTART:19701025T030000
RRULE:FREQ=YEARLY;BYMONTH=10;BYDAY=-1SU
END:STANDARD
END:VTIMEZONE
BEGIN:VEVENT
UID:2485226:Event:174043
DTSTAMP:20260425T162125Z
SUMMARY:Chaine-Echanges-massages. 
DESCRIPTION:Chaine-Echanges-massages. Prochain atelier le 8 janvier 20
 11\nBonjour Ã  toutes et tous,\nChaque atelier apporte son lot de rÃ©f
 lexions, c'est pourquoi je vous invite Ã  lire en dÃ©tail les modifica
 tions de cette invitation.\nNotre prochain atelier se tiendra le samed
 i 8 janvier 2011\nJe vous rappelle que blog de la Chaine-Echanges-Mass
 ages sur http://chaine-echanges-massages.over-blog.com, est notre site
  officiel vous pouvez en suivre l'Ã©volution, recevoir toutes les actu
 alitÃ©s et les rendez-vous d'ateliers, en vous inscrivant Ã  son flux 
 RSS. (haut de page, rubrique: \"J'aime ce blog\" inscription en 2 clic
 s)\nNotez bien: Pour la qualitÃ© pÃ©dagogique des ateliers nous n'invi
 terons que les douze premiÃ¨res inscris.\nVos inscriptions vous seront
  confirmÃ©es personnellement.\nVotre attention SVP.: programme modifiÃ
 ©:\n8h : Accueil.\nJe vous rappelle que la mÃ©ditation commence Ã  9h,
  c'est-Ã -dire qu'il faut que vous preniez vos dispositions pour que n
 ous ne soyons pas en dÃ©calage horaire.\n9h / 9h30 : MÃ©ditation (pend
 ant la mÃ©ditation il n'y aura pas d'accueil)\n10h / 12h30 : Initiatio
 n Tai ji quan en rapport avec le massage.\n12h30 /14h30 : Repas sortie
  de notre panier animÃ© de questions diverses Ã  \"Qui mieux-mieux !!!
 \n14h30 : DÃ©but des ateliers de massages, en duo ou en trio suivant v
 os dÃ©sirs.\nFin d'atelier ver 20h.\nL'atelier sera ouvert Ã  toutes h
 eures de la matinÃ©e sauf de 9h Ã  9h30 pendant le temps de mÃ©ditatio
 n, et jusqu'Ã  14h30. Une rÃ¨gle que nous voulons stricte par EGARD Ã 
  la pudeur de chacun, et au RESPECT que nous nous portons.\nUne partic
 ipation forfaitaire de 5 â‚¬ sera demandÃ©e. Frais de salle, thÃ©, caf
 Ã©, mangÃ©, Ã  volontÃ©!\nApportez un vÃªtement lÃ©ger, et une paire d
 e chausson pour le Tai ji.\nIMPORTANT: Une grande serviette couvrant t
 oute la table et une petite serviette pour le massage, une couverture 
 pour les frileux(leuses) votre huile.\nSi vous avez une table de massa
 ge, elle sera la bienvenue\nPS. Je reÃ§ois aussi tous les vendredis Ã 
  partir de 18h. et S/RV.\nMerci pour votre attention. A bientÃ´t\nPier
 \n\nPour plus d'information, aller sur https://epanews.fr/events/chain
 eechangesmassages-2
DTSTART;TZID=Europe/Paris:20110108T000000
DTEND;TZID=Europe/Paris:20110108T235900
CATEGORIES:69
LOCATION:LYON
WEBSITE:http://maps.google.com/maps?f=q&source=s_q&hl=fr&geocode=&q=lo
 ft-zen+12+rue+gigodot+69004&sll=30.297018,-73.916016&sspn=36.312248,78
 .837891&ie=UTF8&hq=loft-zen+12+rue+gigodot+69004&hnear=&radius=15000&z
 =12
URL:http://maps.google.com/maps?f=q&source=s_q&hl=fr&geocode=&q=loft-z
 en+12+rue+gigodot+69004&sll=30.297018,-73.916016&sspn=36.312248,78.837
 891&ie=UTF8&hq=loft-zen+12+rue+gigodot+69004&hnear=&radius=15000&z=12
CONTACT:06 27 11 31 25
ORGANIZER;CN=gem-masser:https://epanews.fr/profile/gem_masser
ATTACH;FMTTYPE="image/jpeg":http://storage.ning.com/topology/rest/1.0/
 file/get/1662368981?profile=original
ATTENDEE;ROLE=REQ-PARTICIPANT;PARTSTAT=ACCEPTED;RSVP=TRUE;CN="Tournoud
  RÃ©gine":https://epanews.fr/profile/TournoudRegine
ATTENDEE;ROLE=REQ-PARTICIPANT;PARTSTAT=ACCEPTED;RSVP=TRUE;CN="Associat
 ion A Fleur de Geste":https://epanews.fr/profile/AssociationAFleurdeGe
 ste
ATTENDEE;ROLE=REQ-PARTICIPANT;PARTSTAT=ACCEPTED;RSVP=TRUE;CN=gem-masse
 r:https://epanews.fr/profile/gem_masser
END:VEVENT
END:VCALENDAR
