BEGIN:VCALENDAR
PRODID:NingEventWidget-v1
VERSION:2.0
METHOD:PUBLISH
BEGIN:VTIMEZONE
TZID:Europe/Paris
X-LIC-LOCATION:Europe/Paris
BEGIN:DAYLIGHT
TZOFFSETFROM:+0100
TZOFFSETTO:+0200
TZNAME:CEST
DTSTART:19700329T020000
RRULE:FREQ=YEARLY;BYMONTH=3;BYDAY=-1SU
END:DAYLIGHT
BEGIN:STANDARD
TZOFFSETFROM:+0200
TZOFFSETTO:+0100
TZNAME:CET
DTSTART:19701025T030000
RRULE:FREQ=YEARLY;BYMONTH=10;BYDAY=-1SU
END:STANDARD
END:VTIMEZONE
BEGIN:VEVENT
UID:2485226:Event:579306
DTSTAMP:20260422T221802Z
SUMMARY:Chaine énergétique de Guerison.
DESCRIPTION:Bonjour \nJe vous propose de participer à mon cabinet à 
 une chaine énergétique de guérison. Venez avec des photos de person
 nes en difficultés. La participation est libre (vous donnez ce que vo
 us voulez). Pour plis d'info, vous pouvez me contacter au 07 61 12 22 
 10.\n\nCordialement\n\nPh. Sorstein\n\nPour plus d'information, aller 
 sur https://epanews.fr/events/chaine-nerg-tique-de-guerison
DTSTART;TZID=Europe/Paris:20111103T200000
DTEND;TZID=Europe/Paris:20111103T220000
CATEGORIES:75
LOCATION:Paris 5 me
WEBSITE:http://www.ph-sorstein.com
URL:http://www.ph-sorstein.com
CONTACT:
ORGANIZER;CN="Philippe Sorstein":https://epanews.fr/profile/PhilippeSo
 rstein
ATTACH;FMTTYPE="image/jpeg":
ATTENDEE;ROLE=REQ-PARTICIPANT;PARTSTAT=ACCEPTED;RSVP=TRUE;CN="Philippe
  Sorstein":https://epanews.fr/profile/PhilippeSorstein
END:VEVENT
END:VCALENDAR
