BEGIN:VCALENDAR
PRODID:NingEventWidget-v1
VERSION:2.0
METHOD:PUBLISH
BEGIN:VTIMEZONE
TZID:Europe/Paris
X-LIC-LOCATION:Europe/Paris
BEGIN:DAYLIGHT
TZOFFSETFROM:+0100
TZOFFSETTO:+0200
TZNAME:CEST
DTSTART:19700329T020000
RRULE:FREQ=YEARLY;BYMONTH=3;BYDAY=-1SU
END:DAYLIGHT
BEGIN:STANDARD
TZOFFSETFROM:+0200
TZOFFSETTO:+0100
TZNAME:CET
DTSTART:19701025T030000
RRULE:FREQ=YEARLY;BYMONTH=10;BYDAY=-1SU
END:STANDARD
END:VTIMEZONE
BEGIN:VEVENT
UID:2485226:Event:458827
DTSTAMP:20260423T232506Z
SUMMARY:Chaine-Echanges-Massages. Prochain atelier le samedi 10 septem
 bre
DESCRIPTION:Chaine-Echanges-massages. . Prochain atelier le samedi 10 
 septembre\nBonjour à Toutes & Tous\nLe 15 août est passé et ça sen
 t déjà la rentrée.\nJe vous propose un premier atelier le samedi 10
  septembre dans nos locaux du Loft-Zen (Lyon 4 ème)\nComme nous en av
 ons pris l’habitude, nous soutiendrons ce rythme effréné d’un at
 elier par mois et cette année, tous les deuxièmes week-ends en espé
 rant satisfaire le plus grand nombre.\nNous avons maintenant à notre 
 disposition trois tables et un tapis, mais n’hésitez pas à en appo
 rter d’autres si vous en avez les moyens.\nLe nombre de personnes é
 tant limité à 12, veuillez vous inscrire à :\njm-masse@dbmail.com\
 nJe vous rappelle le programme :\n8h : Accueil.\nLa méditation comme
 nçant à 9h, preniez vos dispositions pour arriver bien avant, pour q
 ue nous ne soyons pas en décalage horaire.\n9h / 9h30 : Méditation (
 pendant la méditation il n'y aura pas d'accueil)\n10h / 13h : Exercic
 es énergétique en rapport avec le massage.\n13 h /14h30 : Repas sort
 i de notre panier, animé de questions diverses à \"Qui mieux-mieux !
 !! \n14h30 : Début des ateliers de massages, en duo ou en trio suiva
 nt vos désirs.\nFin des ateliers ver 20h.\nL'atelier sera ouvert à t
 outes heures de la matinée sauf de 9h à 9h30 pendant le temps de mé
 ditation, et jusqu'à 14h. Une règle que nous voulons stricte par EGA
 RD à la pudeur de chacun, et au RESPECT que nous nous portons.\nUne p
 articipation forfaitaire de 6 € sera demandée. Frais de salle, thé
 , café, mangé, à volonté!\nApportez un vêtement léger et une pai
 re de chaussons pour les exercices énergétiques.\nIMPORTANT: Une gra
 nde serviette couvrant toute la table et une petite serviette, une cou
 verture pour les frileux(leuses), votre huile.\nSi vous avez une table
  de massage, elle sera la bien venue !!!\nPS. Je reçois aussi tous l
 es vendredis à partir de 17h. et S/RV.\nMerci pour votre attention. A
 u prochain RV. Ou atelier !!!\nPier\n\nPour plus d'information, aller 
 sur https://epanews.fr/events/chaine-echanges-massages-prochain-atelie
 r-le-samedi-10-septembre
DTSTART;TZID=Europe/Paris:20110910T000000
DTEND;TZID=Europe/Paris:20110910T235900
CATEGORIES:69
LOCATION:Lyon
WEBSITE:http://maps.google.fr/maps?q=LOFT-ZEN,+12,+rue+Gigodot,+69004+
 LYON&hl=fr&sll=46.769968,1.73584&sspn=8.382478,26.696777&vpsrc=0&z=16
URL:http://maps.google.fr/maps?q=LOFT-ZEN,+12,+rue+Gigodot,+69004+LYON
 &hl=fr&sll=46.769968,1.73584&sspn=8.382478,26.696777&vpsrc=0&z=16
CONTACT:06 27 11 31 25
ORGANIZER;CN=gem-masser:https://epanews.fr/profile/gem_masser
ATTACH;FMTTYPE="image/jpeg":http://storage.ning.com/topology/rest/1.0/
 file/get/1662447647?profile=original
ATTENDEE;ROLE=REQ-PARTICIPANT;PARTSTAT=ACCEPTED;RSVP=TRUE;CN="Humano c
 ristal":https://epanews.fr/profile/Humanocristal
ATTENDEE;ROLE=REQ-PARTICIPANT;PARTSTAT=ACCEPTED;RSVP=TRUE;CN=gem-masse
 r:https://epanews.fr/profile/gem_masser
END:VEVENT
END:VCALENDAR
