BEGIN:VCALENDAR
PRODID:NingEventWidget-v1
VERSION:2.0
METHOD:PUBLISH
BEGIN:VTIMEZONE
TZID:Europe/Paris
X-LIC-LOCATION:Europe/Paris
BEGIN:DAYLIGHT
TZOFFSETFROM:+0100
TZOFFSETTO:+0200
TZNAME:CEST
DTSTART:19700329T020000
RRULE:FREQ=YEARLY;BYMONTH=3;BYDAY=-1SU
END:DAYLIGHT
BEGIN:STANDARD
TZOFFSETFROM:+0200
TZOFFSETTO:+0100
TZNAME:CET
DTSTART:19701025T030000
RRULE:FREQ=YEARLY;BYMONTH=10;BYDAY=-1SU
END:STANDARD
END:VTIMEZONE
BEGIN:VEVENT
UID:2485226:Event:2427399
DTSTAMP:20260423T123119Z
SUMMARY:Chaine-Echanges-Massages. Prochain atelier le dimanche 18 octo
 bre 2015
DESCRIPTION:Chaine-Echanges-Massages. Prochain atelier le dimanche 18 
 octobre 2015\nBonjour Ã  Chacune et Ã  Chacun\nÂ Voici lâ€™invitation 
 pour notre atelier du 18 octobre 2015\nJe vous renouvelle mes encourag
 ements pour venir dÃ¨s 9h pour la mÃ©ditation ou Ã  partir de 9h30 pou
 r le dÃ©but de lâ€™atelier qui sont pour moi les moments clefs de la j
 ournÃ©e.\nJe vous rappelle les grandes lignes des ateliers du matin :\
 nExercices dâ€™ouverture des mÃ©ridiens inspirÃ©s du taiji quan.\nÃ‰ve
 ille de la conscience du dos par des techniques de â€˜â€™proprioceptio
 n corporel*â€™â€™ en particulier, la respiration.\n* La proprioception
  dÃ©signe l'ensemble des rÃ©cepteurs, voies et centres nerveux impliqu
 Ã©s dans la perception, consciente ou non, de la position relative des
  parties du corps.\nCe travail spÃ©cifique du dos, se rÃ©percute sur t
 oute la chaÃ®ne musculaire postÃ©rieur allant du bout des doigts des p
 ieds jusquâ€™au sommet de la tÃªte. Câ€™est la partie â€˜â€™motriceâ€™
 â€™ de votre corps, la partie antÃ©rieure de votre corps Ã©tant elle, 
 lâ€™Ã©lÃ©ment â€˜â€™modÃ©rateurâ€™â€™ de vos dÃ©placements. (Ceci pris
  dans la globalitÃ© corporelle)\nNous terminerons la matinÃ©e par des 
 approches Ã©nergÃ©tiques avec un partenaire.\nAu cours de cet atelier,
  je vous propose de dÃ©couvrir une approche de la posturologie par un 
 montage photo et une analyse de vos compensations physique sur les que
 lles vous pouvez Ãªtre amener Ã  travailler - Posez votre candidatureÂ
  !\nNotre atelier Chaine-Echanges-Massage du moi prochain se tiendra l
 e 8 novembre\nA lâ€™initiative de SÃ©verine, nous proposons aux person
 nes confirmÃ©es dans le massage, Le Cercle Ã‰changes Massages.\nLes pr
 ochains ateliers se tiendront au Loft-Zen les 24 octobre et 21 novembr
 e\nPour les personnes intÃ©ressÃ©es, vous pouvez consulter les dÃ©tail
 s sur la page http://epanews.fr/group/massagelyon#.VB9BPhYl0Wg ou tÃ©l
 Ã©phoner Ã  SÃ©verine auÂ : 06 11 04 67 26\nJe vous rappelle le progra
 mme de la Chaine-Echanges-Massages:\n8h : Accueil.\nLa mÃ©ditation com
 menÃ§ant Ã  9h, prenez vos dispositions pour arriver bien avant, pour 
 que nous ne soyons pas en dÃ©calage horaire.\n9h / 9h30 : MÃ©ditation 
 (pendant la mÃ©ditation il n'y aura pas d'accueil)\n10h / 13h : Exerci
 ces Ã©nergÃ©tique en rapport avec le massage.\n13 h /14h30 : Repas sor
 ti de notre panier, animÃ© de questions diverses Ã  \"Qui mieux-mieux 
 !!!Â \n14h30 : DÃ©but des ateliers de massages, en duo ou en trio suiv
 ant vos dÃ©sirs.\nFin des ateliers ver 20h.\nL'atelier sera ouvert Ã  
 toutes heures de la matinÃ©e sauf de 9h Ã  9h30 pendant le temps de mÃ
 ©ditation, et jusqu'Ã  14h. Une rÃ¨gle que nous voulons stricte par EG
 ARD Ã  la pudeur de chacun, et au RESPECT que nous nous portons.\nUne 
 participation forfaitaire de 8 â‚¬ sera demandÃ©e. Frais de salle, thÃ
 ©, cafÃ©, manger, Ã  volontÃ© !\nApportez un vÃªtement lÃ©ger et une p
 aire de chaussons pour les exercices Ã©nergÃ©tiques.\nIMPORTANT: Une g
 rande serviette couvrant toute la table et une petite serviette, une c
 ouverture pour les frileux(leuses), votre huile.\nPS. Je reÃ§ois aussi
  S/RV. Â 06 27 11 31 25\nJe rappelle que mes cours de Tai ji quan se f
 ont les mardis de 18h Ã  20h\nVous pouvez consulterÂ : http://epanews.
 fr/group/tai-ji-quan-a-lyon#.VGeMvclVgWg\nhttp://epanews.fr/profile/Re
 CoNaissanceparletoucher\nhttp://epanews.fr/profile/jmmasse\nMerci pour
  votre attention. Au prochain RV. Ou atelier !!!\nÂ \nÂ \n\nPour plus 
 d'information, aller sur https://epanews.fr/events/chaine-echanges-mas
 sages-prochain-atelier-le-dimanche-18-octobre
DTSTART;TZID=Europe/Paris:20151018T000000
DTEND;TZID=Europe/Paris:20151018T235900
CATEGORIES:69
LOCATION:Lyon Loft-Zen 69004
WEBSITE:http://goo.gl/maps/F7zXV
URL:http://goo.gl/maps/F7zXV
CONTACT:06 27 11 31 25
ORGANIZER;CN=gem-masser:https://epanews.fr/profile/gem_masser
ATTACH;FMTTYPE="image/jpeg":http://storage.ning.com/topology/rest/1.0/
 file/get/1663455492?profile=original
ATTENDEE;ROLE=REQ-PARTICIPANT;PARTSTAT=ACCEPTED;RSVP=TRUE;CN=Santiago:
 https://epanews.fr/profile/Santiago
ATTENDEE;ROLE=REQ-PARTICIPANT;PARTSTAT=ACCEPTED;RSVP=TRUE;CN=lesmainsa
 giles:https://epanews.fr/profile/lesmainsagiles
ATTENDEE;ROLE=REQ-PARTICIPANT;PARTSTAT=ACCEPTED;RSVP=TRUE;CN=gem-masse
 r:https://epanews.fr/profile/gem_masser
END:VEVENT
END:VCALENDAR
