BEGIN:VCALENDAR
PRODID:NingEventWidget-v1
VERSION:2.0
METHOD:PUBLISH
BEGIN:VTIMEZONE
TZID:Europe/Paris
X-LIC-LOCATION:Europe/Paris
BEGIN:DAYLIGHT
TZOFFSETFROM:+0100
TZOFFSETTO:+0200
TZNAME:CEST
DTSTART:19700329T020000
RRULE:FREQ=YEARLY;BYMONTH=3;BYDAY=-1SU
END:DAYLIGHT
BEGIN:STANDARD
TZOFFSETFROM:+0200
TZOFFSETTO:+0100
TZNAME:CET
DTSTART:19701025T030000
RRULE:FREQ=YEARLY;BYMONTH=10;BYDAY=-1SU
END:STANDARD
END:VTIMEZONE
BEGIN:VEVENT
UID:2485226:Event:2886201
DTSTAMP:20260422T000005Z
SUMMARY:Chaine-Echanges-Massages. Prochain atelier le dimanche 12 nove
 mbre 2017
DESCRIPTION:Chaine-Echanges-Massages. Prochain atelier le dimanche 12 
 novembre 2017Bonjour à Chacune et à Chacun.Notre prochain atelier de
  massage se tiendra le dimanche 12 novembre 2017 au Loft-ZenComme d’
 habitude, je vous invite fortement à venir dès la méditation à 8h4
 5, moment indispensable pour se centrer. Le froid venant, accompagné 
 de ses rhumes et laryngites, notre thème du matin sera le massage de 
 la région ‘‘ORL’’ (oto-rhino-laryngologie) traitement des tro
 ubles du nez, de la gorge, des oreilles.Sur le long terme, nous pouvon
 s traiter aussi les ronflements en redynamisant toute la région ORL. 
 Je vous rappelle le programme de cet atelier :L’atelier suivant se t
 iendra le dimanche 10 décembre 20178h : Accueil.La méditation commen
 çant à 9h, prenez vos dispositions pour arriver bien avant, pour que
  nous ne soyons pas en décalage horaire.9h / 9h30 : Méditation (pend
 ant la méditation il n'y aura pas d'accueil)10h / 13h : Exercices én
 ergétique en rapport avec le massage.13 h /14h30 : Repas sorti de not
 re panier, animé de questions diverses à \"Qui mieux mieux !!! 14h30
  : Début des ateliers de massages, en duo ou en trio suivant vos dés
 irs.Fin des ateliers ver 20h.L'atelier sera ouvert à toutes heures de
  la matinée sauf de 9h à 9h30 pendant le temps de méditation, et ju
 squ'à 14h. Une règle que nous voulons stricte par EGARD à la pudeur
  de chacun, et au RESPECT que nous nous portons.Une participation forf
 aitaire de 8 € sera demandée. Frais de salle, thé, café, manger, 
 à volonté !Apportez un vêtement léger et une paire de chaussons po
 ur les exercices énergétiques.IMPORTANT: Une grande serviette couvra
 nt toute la table et une petite serviette, une couverture pour les fri
 leux(leuses), votre huile.PS. Je reçois aussi S/RV. 06 27 11 31 25Je 
 rappelle que mes cours de Tai ji quan se font les mardis de 18h à 20h
 \nVous pouvez consulter : http://epanews.fr/group/tai-ji-quan-a-lyon#
 .VGeMvclVgWg\nhttp://epanews.fr/profile/ReCoNaissanceparletoucher\nhtt
 p://epanews.fr/profile/jmmasse\nMerci pour votre attention. Au prochai
 n RV. Ou atelier !!!\n\nPour plus d'information, aller sur https://epa
 news.fr/events/chaine-echanges-massages-prochain-atelier-le-dimanche-1
 2-novembre
DTSTART;TZID=Europe/Paris:20171112T000000
DTEND;TZID=Europe/Paris:20171112T235900
CATEGORIES:69
LOCATION:LYON Loft-Zen
WEBSITE:https://goo.gl/maps/6tyF9xi52ey
URL:https://goo.gl/maps/6tyF9xi52ey
CONTACT:06 27 11 31 25
ORGANIZER;CN=gem-masser:https://epanews.fr/profile/gem_masser
ATTACH;FMTTYPE="image/jpeg":http://storage.ning.com/topology/rest/1.0/
 file/get/1663692464?profile=original
ATTENDEE;ROLE=REQ-PARTICIPANT;PARTSTAT=ACCEPTED;RSVP=TRUE;CN=gem-masse
 r:https://epanews.fr/profile/gem_masser
END:VEVENT
END:VCALENDAR
