BEGIN:VCALENDAR
PRODID:NingEventWidget-v1
VERSION:2.0
METHOD:PUBLISH
BEGIN:VTIMEZONE
TZID:Europe/Paris
X-LIC-LOCATION:Europe/Paris
BEGIN:DAYLIGHT
TZOFFSETFROM:+0100
TZOFFSETTO:+0200
TZNAME:CEST
DTSTART:19700329T020000
RRULE:FREQ=YEARLY;BYMONTH=3;BYDAY=-1SU
END:DAYLIGHT
BEGIN:STANDARD
TZOFFSETFROM:+0200
TZOFFSETTO:+0100
TZNAME:CET
DTSTART:19701025T030000
RRULE:FREQ=YEARLY;BYMONTH=10;BYDAY=-1SU
END:STANDARD
END:VTIMEZONE
BEGIN:VEVENT
UID:2485226:Event:2796343
DTSTAMP:20260422T151310Z
SUMMARY:Chaine-Echanges-Massages. Prochain atelier le dimanche 12 mars
  2017
DESCRIPTION:Chaine-Echanges-Massages. Prochain atelier le dimanche 12 
 mars 2017\nÂ Bonjour Ã  Chacune et Ã  Chacun\nNotre prochain atelier s
 era le dimanche 12 mars. Il y a encore quelques places.\nJe vous renou
 velle mes encouragements pour venir dÃ¨s 8h45 pour la mÃ©ditationÂ ou 
 Ã  partir de 9h30 pour le dÃ©but de lâ€™atelier qui sont pour moi les 
 moments clefs de la journÃ©e.\nA lâ€™atelier du 12/02, nous avons abor
 dÃ© le massage du dos, je vous propose dâ€™y revenir en incorporant ce
 tte foie ci, des techniques inspirÃ©es de la fasciathÃ©rapie.\nLâ€™ate
 lier suivant se fera le dimanche 9 avril.\nJe vous rappelle le program
 meÂ :\n8h30 : Accueil.\nLa mÃ©ditation commenÃ§ant Ã  9h, prenez vos d
 ispositions pour arriver bien avant, pour que nous ne soyons pas en dÃ
 ©calage horaire.\n9h / 9h30 : MÃ©ditation (pendant la mÃ©ditation il n
 'y aura pas d'accueil)\n10h / 13h : Exercices Ã©nergÃ©tique en rapport
  avec le massage.\n13 h /14h30 : Repas sorti de notre panier, animÃ© d
 e questions diverses Ã  \"Qui mieux-mieux !!!Â \n14h30 : DÃ©but des at
 eliers de massages, en duo ou en trio suivant vos dÃ©sirs.\nFin des at
 eliers ver 20h.\nL'atelier sera ouvert Ã  toutes heures de la matinÃ©e
  sauf de 9h Ã  9h30 pendant le temps de mÃ©ditation, et jusqu'Ã  14h. 
 Une rÃ¨gle que nous voulons stricte par EGARD Ã  la pudeur de chacun, 
 et au RESPECT que nous nous portons.\nUne participation forfaitaire de
  8 â‚¬ sera demandÃ©e. Frais de salle, thÃ©, cafÃ©, mangÃ©, Ã  volontÃ
 ©!\nApportez un vÃªtement lÃ©ger et une paire de chaussons pour les ex
 ercices Ã©nergÃ©tiques.\nIMPORTANT: Une grande serviette couvrant tout
 e la table et une petite serviette, une couverture pour les frileux(le
 uses), votre huile.\nPS. Je reÃ§ois aussi S/RV. Â 06 27 11 31 25\nJe r
 appelle que mes cours de Tai ji quan se font les mardis de 18h Ã  20h\
 nVous pouvez consulterÂ : http://epanews.fr/group/tai-ji-quan-a-lyon#.
 VGeMvclVgWg\nhttp://epanews.fr/profile/ReCoNaissanceparletoucher\nhttp
 ://chaine-echanges-massages.over-blog.com\nhttp://epanews.fr/profile/j
 mmasse\nCi dessous vous trouverez la liste de toutes mes publications 
 avec les liens suivants.\nhttp://epanews.fr/profiles/blog/list?user=3r
 kvmo5wj8rtp#.VrkGzubZI50\nEtÂ : http://epanews.fr/profiles/blog/list?u
 ser=2fsk8a5suss9h#.VrkG-ubZI50\nNâ€™hÃ©sitez pas Ã  mettre des comment
 aires et des jâ€™aimes les faisant dâ€™autant plus vivresÂ !\nÂ Merci 
 pour votre attention. Au prochain RV. Ou atelier !!!\n\n\nPour plus d'
 information, aller sur https://epanews.fr/events/chaine-echanges-massa
 ges-prochain-atelier-le-dimanche-12-mars
DTSTART;TZID=Europe/Paris:20170312T000000
DTEND;TZID=Europe/Paris:20170312T235900
CATEGORIES:69
LOCATION:LYON Loft-Zen
WEBSITE:https://goo.gl/maps/6tyF9xi52ey
URL:https://goo.gl/maps/6tyF9xi52ey
CONTACT:06 27 11 31 25
ORGANIZER;CN=gem-masser:https://epanews.fr/profile/gem_masser
ATTACH;FMTTYPE="image/jpeg":http://storage.ning.com/topology/rest/1.0/
 file/get/1663645657?profile=original
ATTENDEE;ROLE=REQ-PARTICIPANT;PARTSTAT=ACCEPTED;RSVP=TRUE;CN=marie19:h
 ttps://epanews.fr/profile/marie19
ATTENDEE;ROLE=REQ-PARTICIPANT;PARTSTAT=ACCEPTED;RSVP=TRUE;CN=Alain58:h
 ttps://epanews.fr/profile/Alain58
ATTENDEE;ROLE=REQ-PARTICIPANT;PARTSTAT=ACCEPTED;RSVP=TRUE;CN=Wingjo69:
 https://epanews.fr/profile/PEREIRAJose
ATTENDEE;ROLE=REQ-PARTICIPANT;PARTSTAT=ACCEPTED;RSVP=TRUE;CN=gem-masse
 r:https://epanews.fr/profile/gem_masser
END:VEVENT
END:VCALENDAR
