BEGIN:VCALENDAR
PRODID:NingEventWidget-v1
VERSION:2.0
METHOD:PUBLISH
BEGIN:VTIMEZONE
TZID:Europe/Paris
X-LIC-LOCATION:Europe/Paris
BEGIN:DAYLIGHT
TZOFFSETFROM:+0100
TZOFFSETTO:+0200
TZNAME:CEST
DTSTART:19700329T020000
RRULE:FREQ=YEARLY;BYMONTH=3;BYDAY=-1SU
END:DAYLIGHT
BEGIN:STANDARD
TZOFFSETFROM:+0200
TZOFFSETTO:+0100
TZNAME:CET
DTSTART:19701025T030000
RRULE:FREQ=YEARLY;BYMONTH=10;BYDAY=-1SU
END:STANDARD
END:VTIMEZONE
BEGIN:VEVENT
UID:2485226:Event:2268739
DTSTAMP:20260422T080934Z
SUMMARY:Chaine-Echanges-Massages. Prochain atelier le dimanche 12 avri
 l.2015
DESCRIPTION:Chaine-Echanges-Massages. Prochain atelier le dimanche 12 
 avril.2015\nÂ Bonjour Ã  Chacune et Ã  Chacun\nVoici notre prochain at
 elier dâ€™Ã©changes massage qui se tiendra comme dâ€™habitude au Loft-
 Zen le 12 avril 2015 et sera (comme d'habitude) Ã  8â‚¬\nJe vous renou
 velle mes encouragements pour venir dÃ¨s 9h pour la mÃ©ditation ou Ã  
 partir de 9h30 pour le dÃ©but de lâ€™atelier qui sont pour moi les mom
 ents clefs de la journÃ©e.\nLes sujets que jâ€™aborde ne sont que des 
 bases de travail et jâ€™espÃ¨re que votre fidÃ©litÃ© nous permettra dâ
 €™aller un peu plus loin dans la finesse le dÃ©tail et la diversitÃ© Ã
   chaque atelier.\nJe vous souhaite Ã  travers ces ateliers de trouver
  les outils nÃ©cessaires pour affiner et dÃ©velopper votre chemin pers
 onnel\nLâ€™atelier suivant se fera hors les murs sur le W-E du vendred
 i 8, samedi 9 et dimanche 10 mai dans un gÃ®te en ArdÃ¨che au Grand Bo
 uveron 07160 Ã  Saint Julien Labrousse (environ 130 km.de Lyon par lâ€
 ™A7) http://www.legrandbouveron.com/\nLes deux nuitÃ©es seront Ã  30â‚
 ¬ plus 10â‚¬ de frais gÃ©nÃ©raux. Pensez Ã  vous inscrire rapidement, 
 car lâ€™annÃ©e derniÃ¨re il nâ€™y eu pas de place pour tout le monde\n
 Pour vous inscrireÂ : Envoyer impÃ©rativement un chÃ¨que de rÃ©servati
 on de 30â‚¬ libellÃ© au nom de Anne-marie Duclos avec vos coordonnÃ©es
 .\nAdresseÂ : Anne-marie Duclos, Grand Bouveron 07160 Saint Julien Lab
 rousse\nLes dÃ©tails de ce W-E hors les murs vous seront donnÃ©s lors 
 de la prochaine invitation.\nPS. Je reÃ§ois aussi S/RV. Â 06 27 11 31 
 25\nJe rappelle que mes cours de Tai ji quan se font les mardis de 18h
  Ã  20h\nVous pouvez consulterÂ : http://epanews.fr/group/tai-ji-quan-
 a-lyon#.VGeMvclVgWg\nhttp://epanews.fr/profile/ReCoNaissanceparletouch
 er\nhttp://chaine-echanges-massages.over-blog.com\nhttp://epanews.fr/p
 rofile/jmmasse\nMerci pour votre attention. Au prochain RV. Ou atelier
  !!!\nÂ \nÂ \n\nPour plus d'information, aller sur https://epanews.fr/
 events/chaine-echanges-massages-prochain-atelier-le-dimanche-12-avril
DTSTART;TZID=Europe/Paris:20150412T000000
DTEND;TZID=Europe/Paris:20150412T235900
CATEGORIES:69
LOCATION:Loft-Zen 69004
WEBSITE:http://goo.gl/maps/F7zXV
URL:http://goo.gl/maps/F7zXV
CONTACT:06 27 11 31 25
ORGANIZER;CN=gem-masser:https://epanews.fr/profile/gem_masser
ATTACH;FMTTYPE="image/jpeg":http://storage.ning.com/topology/rest/1.0/
 file/get/1663355256?profile=original
ATTENDEE;ROLE=REQ-PARTICIPANT;PARTSTAT=ACCEPTED;RSVP=TRUE;CN=gem-masse
 r:https://epanews.fr/profile/gem_masser
END:VEVENT
END:VCALENDAR
