BEGIN:VCALENDAR
PRODID:NingEventWidget-v1
VERSION:2.0
METHOD:PUBLISH
BEGIN:VTIMEZONE
TZID:Europe/Paris
X-LIC-LOCATION:Europe/Paris
BEGIN:DAYLIGHT
TZOFFSETFROM:+0100
TZOFFSETTO:+0200
TZNAME:CEST
DTSTART:19700329T020000
RRULE:FREQ=YEARLY;BYMONTH=3;BYDAY=-1SU
END:DAYLIGHT
BEGIN:STANDARD
TZOFFSETFROM:+0200
TZOFFSETTO:+0100
TZNAME:CET
DTSTART:19701025T030000
RRULE:FREQ=YEARLY;BYMONTH=10;BYDAY=-1SU
END:STANDARD
END:VTIMEZONE
BEGIN:VEVENT
UID:2485226:Event:987103
DTSTAMP:20260419T230316Z
SUMMARY:Chaine-Echanges-Massages. Prochain atelier le dimanche 11 nove
 mbre
DESCRIPTION:Chaine-Echanges-Massages. Prochain atelier le dimanche 11 
 novembre\nBonjour à Toutes & Tous\nJe vous invite à participer à no
 tre prochain atelier d’échanges-massages du dimanche 11 novembre 20
 12\nComme d’habitude, je vous invite fortement à venir dès la méd
 itation, moment indispensable pour se centrer.\nL’atelier suivant se
  tiendra le dimanche 16 décembre 2012\nNous avons à notre dispositio
 n trois tables et un tapis de massage, n’hésitez pas à en apporter
  d’autres si vous en avez les moyens.\nDans notre atelier du matin, 
 (comme le mois dernier) nous travaillerons la conscience du dos par de
 s techniques de ‘’proprioception corporel’’\nCe travail spéci
 fique du dos, se répercute sur toute la chaîne musculaire postérieu
 r allant du bout des doigts des pieds jusqu’au sommet de la tête. C
 ’est la partie ‘’motrice’’ de votre corps, la partie avant d
 e votre corps étant elle, l’élément ‘’modérateur’’ de vo
 s déplacements. (Ceci pris dans la globalité corporelle)\nVous avez 
 pu suivre notre actualité à propos de la création d’une ‘’Cha
 îne-Echanges-Massages-PRO’’ rebaptisée ‘’RESEAU de PRATICIEN
 S du BIEN-ETRE’’\nUne prochaine réunion se tiendra à ce propos e
 n octobre au Loft-Zen, venez nous soutenir dans cette initiative. Tout
  les avis seront les bienvenus\nVous pouvez consulter l’ouverture du
  nouveau site PRO à : http://reseau-de-praticiens-du-bien-etre.overb
 log.com et laisser quelques commentaires.\nJe vous rappelle le program
 me :\n8h : Accueil.\nLa méditation commençant à 9h, prenez vos di
 spositions pour arriver bien avant, pour que nous ne soyons pas en dé
 calage horaire.\n9h / 9h30 : Méditation (pendant la méditation il n'
 y aura pas d'accueil)\n10h / 13h : Exercices énergétique en rapport 
 avec le massage.\n13 h /14h30 : Repas sorti de notre panier, animé de
  questions diverses à \"Qui mieux mieux !!! \n14h30 : Début des ate
 liers de massages, en duo ou en trio suivant vos désirs.\nFin des ate
 liers ver 20h.\nL'atelier sera ouvert à toutes heures de la matinée 
 sauf de 9h à 9h30 pendant le temps de méditation, et jusqu'à 14h. U
 ne règle que nous voulons stricte par EGARD à la pudeur de chacun, e
 t au RESPECT que nous nous portons.\nUne participation forfaitaire de 
 7 € sera demandée. Frais de salle, thé, café, manger, à volonté
  !\nApportez un vêtement léger et une paire de chaussons pour les e
 xercices énergétiques.\nIMPORTANT: Une grande serviette couvrant tou
 te la table et une petite serviette, une couverture pour les frileux(l
 euses), votre huile.\nPS. Je reçois aussi S/rdv.  06 27 11 31 25\nJe
  reprends aussi mes ateliers d’initiation au Tai ji quan tout les me
 rcredis de 18 à 20 H\nhttp://epanews.fr/profile/ReCoNaissanceparletou
 cher\nhttp://chaine-echanges-massages.over-blog.com\nhttp://epanews.fr
 /profile/jmmasse\nhttp://reseau-de-praticiens-du-bien-etre.overblog.co
 m\nMerci pour votre attention. Au prochain rdv. Ou atelier !!!\nPier\n
 \nPour plus d'information, aller sur https://epanews.fr/events/chaine-
 echanges-massages-prochain-atelier-le-dimanche-11-novembre
DTSTART;TZID=Europe/Paris:20121111T000000
DTEND;TZID=Europe/Paris:20121111T235900
CATEGORIES:69
LOCATION:lyon
WEBSITE:http://goo.gl/maps/WR4Y3
URL:http://goo.gl/maps/WR4Y3
CONTACT:0627113125
ORGANIZER;CN=gem-masser:https://epanews.fr/profile/gem_masser
ATTACH;FMTTYPE="image/jpeg":http://storage.ning.com/topology/rest/1.0/
 file/get/1662684856?profile=original
ATTENDEE;ROLE=REQ-PARTICIPANT;PARTSTAT=ACCEPTED;RSVP=TRUE;CN=gem-masse
 r:https://epanews.fr/profile/gem_masser
END:VEVENT
END:VCALENDAR
