BEGIN:VCALENDAR
PRODID:NingEventWidget-v1
VERSION:2.0
METHOD:PUBLISH
BEGIN:VTIMEZONE
TZID:Europe/Paris
X-LIC-LOCATION:Europe/Paris
BEGIN:DAYLIGHT
TZOFFSETFROM:+0100
TZOFFSETTO:+0200
TZNAME:CEST
DTSTART:19700329T020000
RRULE:FREQ=YEARLY;BYMONTH=3;BYDAY=-1SU
END:DAYLIGHT
BEGIN:STANDARD
TZOFFSETFROM:+0200
TZOFFSETTO:+0100
TZNAME:CET
DTSTART:19701025T030000
RRULE:FREQ=YEARLY;BYMONTH=10;BYDAY=-1SU
END:STANDARD
END:VTIMEZONE
BEGIN:VEVENT
UID:2485226:Event:1125980
DTSTAMP:20260422T054721Z
SUMMARY:Chaine-Echanges-Massages. Prochain atelier le dimanche 10 fÃ©v
 rier 2013
DESCRIPTION:Bonjour Ã  Toutes & Tous\nVoici quâ€™arrive notre atelier 
 du 10 fÃ©vrier \nMalgrÃ© la douzaine de personnes inscrites Ã  l'ateli
 er prÃ©cÃ©dent, nous avons eu pas mal de dÃ©fection de derniÃ¨re minut
 e dÃ»t surtout au mauvais temps.\nJe vous prie quand mÃªme de prÃ©veni
 r si vous ne venez pas privant du mÃªme coup dâ€™autres personnes intÃ
 ©ressÃ©es\nLâ€™atelier suivant se fera le dimanche 17 mars.\nJe vous r
 appelle le programmeÂ :\n8h : Accueil.\nLa mÃ©ditation commenÃ§ant Ã  
 9h, prenez vos dispositions pour arriver bien avant, pour que nous ne 
 soyons pas en dÃ©calage horaire.\n9h / 9h30 : MÃ©ditation (pendant la 
 mÃ©ditation il n'y aura pas d'accueil)\n10h / 13h : Exercices Ã©nergÃ©
 tique en rapport avec le massage.\n13 h /14h30 : Repas sorti de notre 
 panier, animÃ© de questions diverses Ã  \"Qui mieux-mieux !!!Â \n14h30
  : DÃ©but des ateliers de massages, en duo ou en trio suivant vos dÃ©s
 irs.\nFin des ateliers ver 20h.\nL'atelier sera ouvert Ã  toutes heure
 s de la matinÃ©e sauf de 9h Ã  9h30 pendant le temps de mÃ©ditation, e
 t jusqu'Ã  14h. Une rÃ¨gle que nous voulons stricte par EGARD Ã  la pu
 deur de chacun, et au RESPECT que nous nous portons.\nUne participatio
 n forfaitaire de 6 â‚¬ sera demandÃ©e. Frais de salle, thÃ©, cafÃ©, ma
 ngÃ©, Ã  volontÃ©!\nApportez un vÃªtement lÃ©ger et une paire de chaus
 sons pour les exercices Ã©nergÃ©tiques.\nIMPORTANT: Une grande serviet
 te couvrant toute la table et une petite serviette, une couverture pou
 r les frileux(leuses), votre huile.\nPS. Je reÃ§ois aussi S/rdv.Â  06 
 27 11 31 25\nhttp://epanews.fr/profile/ReCoNaissanceparletoucher\nhttp
 ://chaine-echanges-massages.over-blog.com\njm-masse@dbmail.com\nÂ Merc
 i pour votre attention. Au prochain rdv. Ou atelier !!!\nPier\n\nPour 
 plus d'information, aller sur https://epanews.fr/events/chaine-echange
 s-massages-prochain-atelier-le-dimanche-10-f-vrier
DTSTART;TZID=Europe/Paris:20130210T000000
DTEND;TZID=Europe/Paris:20130210T235900
CATEGORIES:69
LOCATION:lyon
WEBSITE:http://goo.gl/maps/WR4Y3
URL:http://goo.gl/maps/WR4Y3
CONTACT:0627113125
ORGANIZER;CN=gem-masser:https://epanews.fr/profile/gem_masser
ATTACH;FMTTYPE="image/jpeg":http://storage.ning.com/topology/rest/1.0/
 file/get/1662737501?profile=original
ATTENDEE;ROLE=REQ-PARTICIPANT;PARTSTAT=ACCEPTED;RSVP=TRUE;CN="Delphine
  PautrÃ©":https://epanews.fr/profile/DelphinePautre
ATTENDEE;ROLE=REQ-PARTICIPANT;PARTSTAT=ACCEPTED;RSVP=TRUE;CN="Pier Bru
 ch":https://epanews.fr/profile/ReCoNaissanceparletoucher
ATTENDEE;ROLE=REQ-PARTICIPANT;PARTSTAT=ACCEPTED;RSVP=TRUE;CN=gem-masse
 r:https://epanews.fr/profile/gem_masser
END:VEVENT
END:VCALENDAR
