BEGIN:VCALENDAR
PRODID:NingEventWidget-v1
VERSION:2.0
METHOD:PUBLISH
BEGIN:VTIMEZONE
TZID:Europe/Paris
X-LIC-LOCATION:Europe/Paris
BEGIN:DAYLIGHT
TZOFFSETFROM:+0100
TZOFFSETTO:+0200
TZNAME:CEST
DTSTART:19700329T020000
RRULE:FREQ=YEARLY;BYMONTH=3;BYDAY=-1SU
END:DAYLIGHT
BEGIN:STANDARD
TZOFFSETFROM:+0200
TZOFFSETTO:+0100
TZNAME:CET
DTSTART:19701025T030000
RRULE:FREQ=YEARLY;BYMONTH=10;BYDAY=-1SU
END:STANDARD
END:VTIMEZONE
BEGIN:VEVENT
UID:2485226:Event:2152319
DTSTAMP:20260423T203450Z
SUMMARY:Chaine-Echanges-Massages. Atelier le dimanche 11 janvier 2015
DESCRIPTION:Bonjour à chacune et à chacun !       La fin de l’a
 nnée pointe son nez avec son cortège de fêtes de réjouissances, de
  cadeaux...\nMais chaque médaille à son revers ! Et tout les jour n
 ous annoncent quelques malheurs révélant un monde chaotique nous ble
 ssant l’âme comme ce petit caillou dans notre chaussure qui à chaq
 ue pas nous irrite un peut plus jusqu’au moment ou, meurtri, nous ne
  puissions plus avancer.\nMais ce n’est pas le moment de baisser les
  bras ! Enlevons ce caillou mettons nous du bôme et repartons du bon
  pied !\nCourage ! Il nous faut transmuter cette adversité avec les
  outils que chacun de nous possédons !\nPar ma modeste participation
 , j’essai de vous apporter un ‘‘petit plus’’ pour qu’un jo
 ur... notre ‘‘soleil’’ soit un peut moins voilé par la pollut
 ions.\nC’est mon vœu pour cette nouvelle année... Puissiez vous vo
 us comprendre pour vous transcender...\nPour bien commencer l’année
 , je vous invite à venir à notre prochain atelier qui se tiendra le 
 dimanche 11 janvier 2015\nLes sujets que j’aborde ne sont que des ba
 ses de travail et j’espère que votre fidélité nous permettra d’
 aller un peu plus loin dans la finesse le détail et la diversité.\nJ
 e vous souhaite à travers ces ateliers de trouver les outils nécessa
 ires pour affiner et développer votre chemin personnel\nNotre atelier
  de février se fera le dimanche 8.\nJe vous rappelle le programme :\
 n8h : Accueil.\nLa méditation commençant à 9h, prenez vos dispositi
 ons pour arriver bien avant, pour que nous ne soyons pas en décalage 
 horaire.\n9h / 9h30 : Méditation (pendant la méditation il n'y aura 
 pas d'accueil)\n10h / 13h : Exercices énergétique en rapport avec le
  massage.\n13 h /14h30 : Repas sorti de notre panier, animé de questi
 ons diverses à \"Qui mieux-mieux !!! \n14h30 : Début des ateliers d
 e massages, en duo ou en trio suivant vos désirs.\nFin des ateliers v
 er 20h.\nL'atelier sera ouvert à toutes heures de la matinée sauf de
  9h à 9h30 pendant le temps de méditation, et jusqu'à 14h. Une règ
 le que nous voulons stricte par EGARD à la pudeur de chacun, et au RE
 SPECT que nous nous portons.\nUne participation forfaitaire de 8 € s
 era demandée. Frais de salle, thé, café, mangé, à volonté!\nAppo
 rtez un vêtement léger et une paire de chaussons pour les exercices 
 énergétiques.\nIMPORTANT: Une grande serviette couvrant toute la tab
 le et une petite serviette, une couverture pour les frileux(leuses), v
 otre huile.\n\n\nPour plus d'information, aller sur https://epanews.fr
 /events/chaine-echanges-massages-atelier-le-dimanche-11-janvier-2015
DTSTART;TZID=Europe/Paris:20150111T000000
DTEND;TZID=Europe/Paris:20150111T235900
CATEGORIES:69
LOCATION:Loft-Zen 69004
WEBSITE:http://goo.gl/maps/F7zXV
URL:http://goo.gl/maps/F7zXV
CONTACT:06 27 11 31 25
ORGANIZER;CN=gem-masser:https://epanews.fr/profile/gem_masser
ATTACH;FMTTYPE="image/jpeg":http://storage.ning.com/topology/rest/1.0/
 file/get/1663279094?profile=original
ATTENDEE;ROLE=REQ-PARTICIPANT;PARTSTAT=ACCEPTED;RSVP=TRUE;CN=gem-masse
 r:https://epanews.fr/profile/gem_masser
END:VEVENT
END:VCALENDAR
