BEGIN:VCALENDAR
PRODID:NingEventWidget-v1
VERSION:2.0
METHOD:PUBLISH
BEGIN:VTIMEZONE
TZID:Europe/Paris
X-LIC-LOCATION:Europe/Paris
BEGIN:DAYLIGHT
TZOFFSETFROM:+0100
TZOFFSETTO:+0200
TZNAME:CEST
DTSTART:19700329T020000
RRULE:FREQ=YEARLY;BYMONTH=3;BYDAY=-1SU
END:DAYLIGHT
BEGIN:STANDARD
TZOFFSETFROM:+0200
TZOFFSETTO:+0100
TZNAME:CET
DTSTART:19701025T030000
RRULE:FREQ=YEARLY;BYMONTH=10;BYDAY=-1SU
END:STANDARD
END:VTIMEZONE
BEGIN:VEVENT
UID:2485226:Event:474740
DTSTAMP:20260421T145946Z
SUMMARY:Chaîne humaine  le 24 Septembre à Avignon
DESCRIPTION:Engager la transition vers les énergies renouvelables en 
 sortant du nucléaire Sortons de la dépendance aux énergies fossiles
  et nucléaires Oui au renouvelable ! Non au NUCLEAIRE ! Non au gaz de
  schiste!\n Conférences le matin 9h-30-12h30\n Repas tiré du sac\n C
 haine humaine à 15h\n Concert live!\n\nPour plus d'information, aller
  sur https://epanews.fr/events/cha-ne-humaine-le-24-septembre-avignon
DTSTART;TZID=Europe/Paris:20110924T093000
DTEND;TZID=Europe/Paris:20110924T170000
CATEGORIES:84
LOCATION:Avignon PLACE DE L’HORLOGE (devant l’hotel de ville)
WEBSITE:http://creavignon.fr/
URL:http://creavignon.fr/
CONTACT:06 88 88 86 01
ORGANIZER;CN=CREAvignon:https://epanews.fr/profile/CREAvignon
ATTACH;FMTTYPE="image/jpeg":http://storage.ning.com/topology/rest/1.0/
 file/get/1662448721?profile=original
ATTENDEE;ROLE=REQ-PARTICIPANT;PARTSTAT=ACCEPTED;RSVP=TRUE;CN=CREAvigno
 n:https://epanews.fr/profile/CREAvignon
ATTENDEE;ROLE=REQ-PARTICIPANT;PARTSTAT=TENTATIVE;RSVP=TRUE;CN="Anne-Fr
 ançoise BAYET Naturopathe":https://epanews.fr/profile/AnneFrancoiseBA
 YETNaturopathe
END:VEVENT
END:VCALENDAR
