BEGIN:VCALENDAR
PRODID:NingEventWidget-v1
VERSION:2.0
METHOD:PUBLISH
BEGIN:VTIMEZONE
TZID:Europe/Paris
X-LIC-LOCATION:Europe/Paris
BEGIN:DAYLIGHT
TZOFFSETFROM:+0100
TZOFFSETTO:+0200
TZNAME:CEST
DTSTART:19700329T020000
RRULE:FREQ=YEARLY;BYMONTH=3;BYDAY=-1SU
END:DAYLIGHT
BEGIN:STANDARD
TZOFFSETFROM:+0200
TZOFFSETTO:+0100
TZNAME:CET
DTSTART:19701025T030000
RRULE:FREQ=YEARLY;BYMONTH=10;BYDAY=-1SU
END:STANDARD
END:VTIMEZONE
BEGIN:VEVENT
UID:2485226:Event:247650
DTSTAMP:20260420T153839Z
SUMMARY:Cérémonie de l'eau - Fukushima (Japon)
DESCRIPTION:S'il vous plaît envoyez vos prières d'amour et de gratit
 ude à l'eau des centrales nucléaires à Fukushima, Japon !\n\nAprès
  le séisme de magnitude 9 massive et le surréaliste tsunami, plus de
  10.000 personnes sont toujours portées disparues ... même maintenan
 t ... 16 jours ont passé déjà depuis la catastrophe. Le pire est qu
 e l'eau dans les réacteurs des centrales nucléaires Fukushima a comm
 encé à fuir, et à contaminer l'océan, l'air et les molécules d'ea
 u des zones environnantes.\n\nLa sagesse humaine n'a pas été en mesu
 re de faire beaucoup pour résoudre le problème, mais nous essayons s
 eulement de refroidir la colère des matières radioactives dans les r
 éacteurs en évacuant l'eau à leur disposition.\n\nN'y a-t-il vraime
 nt rien d'autre à faire?\n\nJe pense que si ! Pendant plus de vingt a
 nnées de recherche à mesurer le hado et la technologie des cristaux 
 d'eau photographique, j'ai été témoin de ce que l'eau peut devenir 
 positive quand elle reçoit la vibration pure de la prière de l'homme
 , peu importe comment elle est loin.\n\nLa formule de l'énergie d'Alb
 ert Einstein, E = MC2 signifie en réalité que de l'énergie = nombre
  de personnes et de la place de la conscience des gens.\n\nIl est main
 tenant temps de comprendre le vrai sens. Joignons-nous tous la cérém
 onie de prière en tant que citoyens de la planète Terre. Je voudrais
  demander à toutes les personnes, pas seulement au Japon, mais partou
 t dans le monde s'il vous plaît de nous aider à trouver une issue à
  la crise de cette planète!\n\nLa procédure de la prière est la sui
 vante\n\n\nNom de la cérémonie:\n\"Envoyons nos pensées d'amour et 
 de gratitude à toutes les eaux dans les centrales nucléaires à Fuku
 shima\"\n\nJour et heure:\n31 mars 2011 (jeudi)\n12:00 midi dans chaqu
 e fuseau horair\n\nS'il vous plaît dire la phrase suivante:\n\n\"L'ea
 u de la centrale nucléaire de Fukushima, nous sommes désolés de vou
 s faire souffrir. S'il vous plaît pardonnez-nous. Nous vous remercion
 s, et nous vous aimons. \"S'il vous plaît dites à haute voix ou dans
  votre tête. Répétez trois fois en joignant les mains dans une posi
 tion de prière. S'il vous plaît offrez votre prière sincère.\n\nMe
 rci beaucoup du fond du cœur.\n\nAvec amour et de gratitude,\nMasaru 
 Emoto\nMessager de l'eau\n\nPour plus d'information, aller sur https:/
 /epanews.fr/events/ceremonie-de-leau-fukushima
DTSTART;TZID=Europe/Paris:20110331T120000
DTEND;TZID=Europe/Paris:20110331T123000
CATEGORIES:tous
LOCATION:Monde entier
WEBSITE:http://emotopeaceproject.blogspot.com/
URL:http://emotopeaceproject.blogspot.com/
CONTACT:
ORGANIZER:Masaru Emoto
ATTACH;FMTTYPE="image/jpeg":http://storage.ning.com/topology/rest/1.0/
 file/get/1662403402?profile=original
ATTENDEE;ROLE=REQ-PARTICIPANT;PARTSTAT=ACCEPTED;RSVP=TRUE;CN="Fabrire 
 Loizeau":https://epanews.fr/profile/FabrireLoizeau
ATTENDEE;ROLE=REQ-PARTICIPANT;PARTSTAT=ACCEPTED;RSVP=TRUE;CN=Espritdep
 aix:https://epanews.fr/profile/Thomas522
ATTENDEE;ROLE=REQ-PARTICIPANT;PARTSTAT=ACCEPTED;RSVP=TRUE;CN=Ambroise:
 https://epanews.fr/profile/Ambroise
END:VEVENT
END:VCALENDAR
