BEGIN:VCALENDAR
PRODID:NingEventWidget-v1
VERSION:2.0
METHOD:PUBLISH
BEGIN:VTIMEZONE
TZID:Europe/Paris
X-LIC-LOCATION:Europe/Paris
BEGIN:DAYLIGHT
TZOFFSETFROM:+0100
TZOFFSETTO:+0200
TZNAME:CEST
DTSTART:19700329T020000
RRULE:FREQ=YEARLY;BYMONTH=3;BYDAY=-1SU
END:DAYLIGHT
BEGIN:STANDARD
TZOFFSETFROM:+0200
TZOFFSETTO:+0100
TZNAME:CET
DTSTART:19701025T030000
RRULE:FREQ=YEARLY;BYMONTH=10;BYDAY=-1SU
END:STANDARD
END:VTIMEZONE
BEGIN:VEVENT
UID:2485226:Event:2695426
DTSTAMP:20260422T054527Z
SUMMARY:ceremonie chamanique de nuit
DESCRIPTION:CEREMONIE CHAMANIQUE DE NUIT\nSAMEDI 20 AOUT 2016\nAMELIE 
 LES BAINS\n CRISTIANA PEMA DROLMA ET ELIAN AMRIT NISARG\n \nINFORMAT
 IONS PRATIQUES : Vous êtes conviés à venir\nÀ 18 h pour partager 
 ensemble notre rencontre et nos intentions\n18 h 30 séance de transe\
 n21 h 30  cérémonie de nuit tradition Téonanacatl\nVous dormirez s
 ur place\nsachant que le processus continue durant le sommeil.\nVers 9
 h nous partageons le petit déjeuner pour lequel\nnous vous remercions
  chacun d'apporter de quoi se\nrestaurer. Le thé vous est offert.\nPr
 évoir : un duvet, un oreiller, une tenue ample de\ncouleur claire, un
  petit déjeuner à partager.\nINSCRIPTIONS :  limitées à 12 partic
 ipants\n prix : 90 Euros\nCRISTIANA : 04 68 98 68 83 – 06 19 23 61 
 02\nELIAN : 06 65 21 56 38\nemail : chamanessence@gmail.com\nwww.chama
 nessence.com\n\nPour plus d'information, aller sur https://epanews.fr/
 events/ceremonie-chamanique-de-nuit
DTSTART;TZID=Europe/Paris:20160820T120000
DTEND;TZID=Europe/Paris:20160821T120000
CATEGORIES:66, 11, 34, 09
LOCATION:amélie les bains
WEBSITE:http://www.chamanessence.com
URL:http://www.chamanessence.com
CONTACT:0468986883
ORGANIZER;CN=cristiana:https://epanews.fr/profile/cristiana
ATTACH;FMTTYPE="image/jpeg":http://storage.ning.com/topology/rest/1.0/
 file/get/1663592102?profile=original
ATTENDEE;ROLE=REQ-PARTICIPANT;PARTSTAT=ACCEPTED;RSVP=TRUE;CN=cristiana
 :https://epanews.fr/profile/cristiana
END:VEVENT
END:VCALENDAR
