BEGIN:VCALENDAR
PRODID:NingEventWidget-v1
VERSION:2.0
METHOD:PUBLISH
BEGIN:VTIMEZONE
TZID:Europe/Paris
X-LIC-LOCATION:Europe/Paris
BEGIN:DAYLIGHT
TZOFFSETFROM:+0100
TZOFFSETTO:+0200
TZNAME:CEST
DTSTART:19700329T020000
RRULE:FREQ=YEARLY;BYMONTH=3;BYDAY=-1SU
END:DAYLIGHT
BEGIN:STANDARD
TZOFFSETFROM:+0200
TZOFFSETTO:+0100
TZNAME:CET
DTSTART:19701025T030000
RRULE:FREQ=YEARLY;BYMONTH=10;BYDAY=-1SU
END:STANDARD
END:VTIMEZONE
BEGIN:VEVENT
UID:2485226:Event:2733487
DTSTAMP:20260423T005049Z
SUMMARY:cercles de vies
DESCRIPTION:Â«Â CERCLES de VIES Â»\nOn pourrait Ã©galement rÃ©sumer ce
  voyage Ã  lâ€™inscription au seuil du Temple de Delphes\nÂ« Connais-t
 oi, toi-mÃªme et tu connaÃ®tras lâ€™univers et les DieuxÂ»\nÂ Â« CERCL
 ES de VIES Â»Â est un groupe continu qui propose dâ€™aller explorer av
 ec/par le mouvement et la danse, lâ€™ensemble des facettes et des aspe
 ct de notre Â«Galaxie relationnelleÂ».Jâ€™entends par Â«Galaxie relati
 onnelleÂ», tous les types, formats et niveaux de relations :que nous a
 vons, que nous subissons parfois, que nous Ã©tablissons, qui nous cons
 tituentÂ et dont nous faisons partie.Â Il sâ€™agit dâ€™aller explorer 
 nos relations avec soi- mÃªme, lâ€™autre, les autres, le monde visible
 Â et non visible qui nous entourent.Â Oser confronter, dÃ©couvrir, rec
 onnaÃ®tre, accueillir, remercier, se libÃ©rer et transformerÂ aussi bi
 en nos faces cachÃ©es, sombres voire obscures, que nos faces lumineuse
 s de notreÂ Â«Galaxie relationnelleÂ Â»Â Nous plongerons dans, Ã  trav
 ers et avec 5 cercles de relations, et pour ce faire,Â nous utiliseron
 s la grille de lecture que propose :Â Les 5 Dimensions du Mandala de l
 a Movement Medicine :\n\nSOI\nL'AUTRE\nLES COMMUNAUTÃ‰S\nANCÃŠTRES & E
 SPRITS\nSOURCE\n\nLe Voyage des 5 CERCLES :\n\nLe Premier Cercle : Soi
 Â : quels regards est-ce que je porte sur moi-mÃªme? quelles relations
  ai-je avec moi-mÃªme? Suis-je bien connectÃ© Ã  moi mÃªme? Quels sont
  mes points dâ€™amÃ©liorations? Quels sont les talents que jâ€™ai oubl
 iÃ© ?ou mis de cÃ´tÃ©? De quoi je suis le plus fier ? Oser sâ€™intÃ©ri
 oriser, se connecter Ã  soi, se retrouver sans sâ€™isoler ou se couper
  de lâ€™extÃ©rieur.\nLe DeuxiÃ¨me Cercle : Lâ€™AutreÂ :Â \nLe TroisiÃ¨
 me Cercle : Les CommunautÃ©s :Â \nLe QuatriÃ¨me Cercle : AncÃªtres & E
 spritsÂ :\nLe CinquiÃ¨me Cercle : Source :\n\nINFORMATIONS PRATIQUES :
 Â Groupe continu limitÃ© Ã  24 participants\nTARIF :Â Tarif prÃ©fÃ©ren
 tiel 310 â‚¬ jusquâ€™au 20 octobre ensuite 360 â‚¬\nInscription confir
 mÃ©e et validÃ©e Ã  rÃ©ception dâ€™un acompte de 180 â‚¬ (acompte non 
 remboursÃ©) envoyÃ© Ã  lâ€™ordre de Cyrill Chantereau Ã  JUST DANCE WI
 TH LIFE Â :Â 35 rue de Lyon 75012 PARISÂ et de votre formulaire de prÃ
 ©-inscription en allant sur le lien ci-dessous\nINSCRIPTIONÂ : aller s
 urÂ http://www.justdancewithlife.com/5-dimensions/\nNOTE :\n\nLes part
 icipants du groupe WILD DANCER de cÃ©tÃ© et du groupe continu Â« les H
 ommes DansentÂ» profitent du tarif prÃ©fÃ©rentiel jusquâ€™au dernier m
 oment.\nParticiper Ã  ce Groupe Continu, vous permet pendant toute sa 
 durÃ©e dâ€™avoir accÃ¨s aux cours rÃ©guliers Ã  13 â‚¬ et de profiter 
 des tarifs prÃ©fÃ©rentiels de tous les Ã©vÃ©nements Just Dance With Li
 fe jusquâ€™au dernier moment.\n\nLIEUX :\n\nSTUDIO ONE STEPÂ pour les 
 sessions 1, 2, 4 & 5Â : 18-20 rue du Fbg du Temple 75011\nCENTRE BIOSÂ
  pour la session 3,Â 8, impasse Druinot, 75012 Paris.\n\n\nPour plus d
 'information, aller sur https://epanews.fr/events/cercles-de-vies
DTSTART;TZID=Europe/Paris:20161106T151500
DTEND;TZID=Europe/Paris:20161106T191500
CATEGORIES:75
LOCATION:studio one step (paris)
WEBSITE:http://www.justdancewithlife.com/event/cercles-de-vies-1/
URL:http://www.justdancewithlife.com/event/cercles-de-vies-1/
CONTACT:
ORGANIZER;CN="Cyrill Chantereau":https://epanews.fr/profile/CyrillChan
 tereau
ATTACH;FMTTYPE="image/jpeg":http://storage.ning.com/topology/rest/1.0/
 file/get/1663619078?profile=original
ATTENDEE;ROLE=REQ-PARTICIPANT;PARTSTAT=ACCEPTED;RSVP=TRUE;CN="Cyrill C
 hantereau":https://epanews.fr/profile/CyrillChantereau
END:VEVENT
END:VCALENDAR
