BEGIN:VCALENDAR
PRODID:NingEventWidget-v1
VERSION:2.0
METHOD:PUBLISH
BEGIN:VTIMEZONE
TZID:Europe/Paris
X-LIC-LOCATION:Europe/Paris
BEGIN:DAYLIGHT
TZOFFSETFROM:+0100
TZOFFSETTO:+0200
TZNAME:CEST
DTSTART:19700329T020000
RRULE:FREQ=YEARLY;BYMONTH=3;BYDAY=-1SU
END:DAYLIGHT
BEGIN:STANDARD
TZOFFSETFROM:+0200
TZOFFSETTO:+0100
TZNAME:CET
DTSTART:19701025T030000
RRULE:FREQ=YEARLY;BYMONTH=10;BYDAY=-1SU
END:STANDARD
END:VTIMEZONE
BEGIN:VEVENT
UID:2485226:Event:1698943
DTSTAMP:20260421T052107Z
SUMMARY:Cercles de Lune
DESCRIPTION:Cinq rencontres, calquÃ©es sur le cycle lunaire, pour pÃ©n
 Ã©trer les mystÃ¨res du fÃ©minin, et sâ€™impliquer dans des pratiques 
 taoÃ¯ste et chamaniques aisÃ©es et efficaces.\nâ€¢ Connectons-nous Ã  
 notre essence et dÃ©couvrons comment bÃ©nÃ©ficier de lâ€™influence des
  cycles lunaires.\nâ€¢ DÃ©couvrons-nous sous une perspective trÃ¨s fÃ©
 minine, restaurant notre intuition, notre sagesse et la fraternitÃ© en
 tre femmes.\nâ€¢ Apprenons les exercices et les pratiques visant Ã  re
 conquÃ©rir ainsi notre vitalitÃ©.\nâ€¢ Etudions les archÃ©types fÃ©min
 ins liÃ©s Ã  chaque phase de la lune.\nLe mÃªme groupeâ€¦ dans le resp
 ect, lâ€™acceptation et la confianceâ€¦ de 19h30 Ã  22H les mercredi 0
 5 et 19 fÃ©vrier 2014, 26 mars, 30 avril et le mardi 13 mai.\nCes grou
 pes seront limitÃ©s Ã  10 personnes et le prix pour les cinq rencontre
 s est de 130 â‚¬. Ils seront animÃ©s par Maria Soledad, Psychologue br
 Ã©silienne et pionniÃ¨re dans la crÃ©ation de cercles dâ€™Ã©veil fÃ©mi
 nin sur quatre continents.\nContact et inscription: 06.99.52.28.49Â Â 
  ofeminino@gmail.com Â  Â  Â www.eveilfeminin.fr\nSâ€™il se trouve quâ
 €™il y a une des rÃ©unions Ã  laquelle vous Ãªtes dans lâ€™impossibili
 tÃ© de participer, je vous transmettrai les exercices et un rÃ©sumÃ© d
 u contenu partagÃ© pour que vous restiez intÃ©grÃ©e au groupe et Ã  la
  totalitÃ© du travail.\n\nPour plus d'information, aller sur https://e
 panews.fr/events/cercles-de-lune
DTSTART;TZID=Europe/Paris:20140205T193000
DTEND;TZID=Europe/Paris:20140205T220000
CATEGORIES:13
LOCATION:REIKI Harmonies
WEBSITE:http://www.eveilfeminin.fr
URL:http://www.eveilfeminin.fr
CONTACT:06.99.52.28.49
ORGANIZER;CN="Maria Soledad Domec":https://epanews.fr/profile/MariaSol
 edad
ATTACH;FMTTYPE="image/jpeg":http://storage.ning.com/topology/rest/1.0/
 file/get/1663002332?profile=original
ATTENDEE;ROLE=REQ-PARTICIPANT;PARTSTAT=ACCEPTED;RSVP=TRUE;CN="Maria So
 ledad Domec":https://epanews.fr/profile/MariaSoledad
ATTENDEE;ROLE=REQ-PARTICIPANT;PARTSTAT=ACCEPTED;RSVP=TRUE;CN=Nabila:ht
 tps://epanews.fr/profile/Nabila
END:VEVENT
END:VCALENDAR
