BEGIN:VCALENDAR
PRODID:NingEventWidget-v1
VERSION:2.0
METHOD:PUBLISH
BEGIN:VTIMEZONE
TZID:Europe/Paris
X-LIC-LOCATION:Europe/Paris
BEGIN:DAYLIGHT
TZOFFSETFROM:+0100
TZOFFSETTO:+0200
TZNAME:CEST
DTSTART:19700329T020000
RRULE:FREQ=YEARLY;BYMONTH=3;BYDAY=-1SU
END:DAYLIGHT
BEGIN:STANDARD
TZOFFSETFROM:+0200
TZOFFSETTO:+0100
TZNAME:CET
DTSTART:19701025T030000
RRULE:FREQ=YEARLY;BYMONTH=10;BYDAY=-1SU
END:STANDARD
END:VTIMEZONE
BEGIN:VEVENT
UID:2485226:Event:1802327
DTSTAMP:20260423T043151Z
SUMMARY:Cercles de Femmes et dâ€™Hommes
DESCRIPTION:Ã€ l'heure du rÃ©veil du fÃ©minin SacrÃ© et des cercles de
  femmes, nous vous proposons des cercles permettant dâ€™Ã©changer sur 
 le fÃ©minin et le masculin sacrÃ©s. Dâ€™un cÃ´tÃ© les femmes avec Lydi
 a VasquezÂ et Camille GriselinÂ pour Ãªtre guidÃ©es et de lâ€™autre cÃ
 ´tÃ©, les hommes avec Julien FiheyÂ et SÃ©bastien Lambert.Â En fin de 
 soirÃ©es, les deux cercles se rÃ©unissent pour Ã©changer.Â Notre objec
 tif est que les hommes et les femmes avancent en mÃªme temps pour retr
 ouver cet Ã©quilibre sacrÃ© en eux. Pour venir:Â http://goo.gl/maps/yn
 mqn\n\nPour plus d'information, aller sur https://epanews.fr/events/ce
 rcles-de-femmes-et-d-hommes
DTSTART;TZID=Europe/Paris:20140304T193000
DTEND;TZID=Europe/Paris:20140304T220000
CATEGORIES:49
LOCATION:Les Gardes (49120)
WEBSITE:http://www.lestresorsdelame.com/Calendrier.html
URL:http://www.lestresorsdelame.com/Calendrier.html
CONTACT:
ORGANIZER;CN=SÃ©bastien:https://epanews.fr/profile/Sebastien99
ATTACH;FMTTYPE="image/jpeg":http://storage.ning.com/topology/rest/1.0/
 file/get/1663074025?profile=original
ATTENDEE;ROLE=REQ-PARTICIPANT;PARTSTAT=ACCEPTED;RSVP=TRUE;CN=SÃ©bastie
 n:https://epanews.fr/profile/Sebastien99
END:VEVENT
END:VCALENDAR
