BEGIN:VCALENDAR
PRODID:NingEventWidget-v1
VERSION:2.0
METHOD:PUBLISH
BEGIN:VTIMEZONE
TZID:Europe/Paris
X-LIC-LOCATION:Europe/Paris
BEGIN:DAYLIGHT
TZOFFSETFROM:+0100
TZOFFSETTO:+0200
TZNAME:CEST
DTSTART:19700329T020000
RRULE:FREQ=YEARLY;BYMONTH=3;BYDAY=-1SU
END:DAYLIGHT
BEGIN:STANDARD
TZOFFSETFROM:+0200
TZOFFSETTO:+0100
TZNAME:CET
DTSTART:19701025T030000
RRULE:FREQ=YEARLY;BYMONTH=10;BYDAY=-1SU
END:STANDARD
END:VTIMEZONE
BEGIN:VEVENT
UID:2485226:Event:844647
DTSTAMP:20260421T143636Z
SUMMARY:Cercle matinal pour la nouvelle lune Ã  nimes
DESCRIPTION:Bonjour , je vous invite Ã  venir au cercle de la nouvelle
  lune\nÂ le matin Ã  Nimes\n-Lors de nouvelle lune( La nouvelle Lune e
 st une phase lunaire qui se produit quand la Lune se trouve entre la T
 erre et le Soleil. La partie Ã©clairÃ©e de la Lune est la face cachÃ©e
 , et la face que nous prÃ©sente la Lune est donc invisible. Il est trÃ
 ¨s difficile dâ€™observer l...a nouvelle Lune, car celle-ci se trouve 
 trÃ¨s proche du Soleil.)  Ces nouvelles lunes sont propice au renouvea
 u, Ã  nettoyer , approfondir et communier avec le fÃ©minin sacrÃ©, Ã  
 l introspection et au partage dans le respect de chacune dans lâ€™art 
 de la culture amÃ©rindienne  Ces cercles matinaux sont de 9h Ã  11h Ã 
  l extÃ©rieur au jardin de la fontaine Ã  nimes rdv le jeudi 21 juin  
 inscription aupres de yael  http://lechantdesarbres.over-blog.com/\n\n
 Pour plus d'information, aller sur https://epanews.fr/events/cercle-ma
 tinal-pour-la-nouvelle-lune-nimes
DTSTART;TZID=Europe/Paris:20120621T090000
DTEND;TZID=Europe/Paris:20120621T110000
CATEGORIES:30000
LOCATION:jardin de la fontaine nimes
WEBSITE:http://lechantdesarbres.over-blog.com/
URL:http://lechantdesarbres.over-blog.com/
CONTACT:0620345499
ORGANIZER;CN=YaÃ«l:https://epanews.fr/profile/yael
ATTACH;FMTTYPE="image/jpeg":http://storage.ning.com/topology/rest/1.0/
 file/get/1662618907?profile=original
ATTENDEE;ROLE=REQ-PARTICIPANT;PARTSTAT=ACCEPTED;RSVP=TRUE;CN=YaÃ«l:htt
 ps://epanews.fr/profile/yael
END:VEVENT
END:VCALENDAR
